BEGIN:VCALENDAR
VERSION:2.0
PRODID:-//ChamberMaster//Event Calendar 2.0//EN
METHOD:PUBLISH
X-PUBLISHED-TTL:P3D
REFRESH-INTERVAL:P3D
CALSCALE:GREGORIAN
BEGIN:VEVENT
DTSTART;VALUE=DATE:20120704
DTEND;VALUE=DATE:20120705
TRANSP:TRANSPARENT
X-MICROSOFT-CDO-ALLDAYEVENT:TRUE
SUMMARY:Chamber Office Closed in Observance of Independence Day
DESCRIPTION:The Broomfield Chamber Office will be closed all day on Wednesday\, May 4th in observance of Independence Day. If you are in need of any information regarding the Chamber please go to: http://www.broomfieldchamber.com/
X-ALT-DESC;FMTTYPE=text/html:The Broomfield Chamber Office will be closed all day on Wednesday\,&nbsp\;May 4th in observance of Independence Day. If you are in need of any information regarding the Chamber please go to: <a href="http://www.broomfieldchamber.com/">http://www.broomfieldchamber.com/</a>
LOCATION:
UID:e.641.3169
SEQUENCE:3
DTSTAMP:20260419T120416Z
URL:http://business.broomfieldchamber.com/events/details/chamber-office-closed-in-observance-of-independence-day-07-04-2012-3169
END:VEVENT

END:VCALENDAR
