BEGIN:VCALENDAR
VERSION:2.0
PRODID:-//ChamberMaster//Event Calendar 2.0//EN
METHOD:PUBLISH
X-PUBLISHED-TTL:P3D
REFRESH-INTERVAL:P3D
CALSCALE:GREGORIAN
BEGIN:VEVENT
DTSTART;VALUE=DATE:20101105
DTEND;VALUE=DATE:20101115
TRANSP:TRANSPARENT
X-MICROSOFT-CDO-ALLDAYEVENT:TRUE
SUMMARY:Chasing the Sublime by BNC Dance
DESCRIPTION:Three choreographers pair with three visual artists to apply their skills and imaginations in a pursuit of the horizon. Chasing the Sublime is BNC's first co-production with Lakewood Cultural Center. The project will open with a gallery exhibit at the Cultural Center\, continue with a public discussion\, and culminate with three world premiere ballets in November.
X-ALT-DESC;FMTTYPE=text/html:Three choreographers pair with three visual artists to apply their skills and imaginations in a pursuit of the horizon. Chasing the Sublime is BNC's first co-production with Lakewood Cultural Center. The project will open with a gallery exhibit at the Cultural Center\, continue with a public discussion\, and culminate with three world premiere ballets in November.
LOCATION:Lakewood Cultural Center November 5th - 7th Performing Arts Complex at PCS November 12th - 14th
UID:e.641.1202
SEQUENCE:3
DTSTAMP:20260420T173131Z
URL:http://business.broomfieldchamber.com/events/details/chasing-the-sublime-by-bnc-dance-11-05-2010-1202
END:VEVENT

END:VCALENDAR
