BEGIN:VCALENDAR
VERSION:2.0
PRODID:-//ChamberMaster//Event Calendar 2.0//EN
METHOD:PUBLISH
X-PUBLISHED-TTL:P3D
REFRESH-INTERVAL:P3D
CALSCALE:GREGORIAN
BEGIN:VEVENT
DTSTART;VALUE=DATE:20110119
DTEND;VALUE=DATE:20110124
TRANSP:TRANSPARENT
X-MICROSOFT-CDO-ALLDAYEVENT:TRUE
SUMMARY:Cirque du Soleil: Alegria
DESCRIPTION:
X-ALT-DESC;FMTTYPE=text/html:
LOCATION:1STBANK Center
UID:e.641.1238
SEQUENCE:3
DTSTAMP:20260420T144045Z
URL:http://business.broomfieldchamber.com/events/details/cirque-du-soleil-alegria-01-19-2011-1238
END:VEVENT

END:VCALENDAR
