BEGIN:VCALENDAR
VERSION:2.0
PRODID:-//ChamberMaster//Event Calendar 2.0//EN
METHOD:PUBLISH
X-PUBLISHED-TTL:P3D
REFRESH-INTERVAL:P3D
CALSCALE:GREGORIAN
BEGIN:VEVENT
DTSTART:20110728T010000Z
DTEND:20110728T030000Z
X-MICROSOFT-CDO-ALLDAYEVENT:FALSE
SUMMARY:Cirrus Presentation and Open House
DESCRIPTION:Join us for cocktails and camaraderie over a presentation of services and opportunities available to our customers who may have an interest in learning to fly or own a Cirrus.\n\n\n\nFind out about the innovative and advanced Cirrus aircraft. Spend time with our Cirrus trained instructors and a representative from Cirrus. You will have an opportunity to see the airplane\, find out what the future of aviation looks like and to ask questions. \n\n\n\nPlease RSVP to Western Air Flight Academy at 303-466-6998 or email treese@flywafa.com by Monday\, July 25th.
X-ALT-DESC;FMTTYPE=text/html:<span style="font-size:12px\;">Join us for cocktails and camaraderie over a presentation of services and opportunities available to our customers who may have an interest in learning to fly or own a Cirrus.<br />\n<br />\nFind out about the innovative and advanced Cirrus aircraft. Spend time with our Cirrus trained instructors and a representative from Cirrus. You will have an opportunity to see the airplane\, find out what the future of aviation looks like and to ask questions.&nbsp\;</span><br />\n<br />\n<span style="font-size:14px\;"><strong>Please RSVP to Western Air Flight Academy at 303-466-6998 or email treese@flywafa.com by Monday\, July 25th.</strong></span>
LOCATION:Western Air Flight Academy\, 11915 Airport Way\, Suite 4 Broomfield\, Colorado 80021
UID:e.641.2866
SEQUENCE:3
DTSTAMP:20260420T050705Z
URL:http://business.broomfieldchamber.com/events/details/cirrus-presentation-and-open-house-07-27-2011-2866
END:VEVENT

END:VCALENDAR
