BEGIN:VCALENDAR
VERSION:2.0
PRODID:-//ChamberMaster//Event Calendar 2.0//EN
METHOD:PUBLISH
X-PUBLISHED-TTL:P3D
REFRESH-INTERVAL:P3D
CALSCALE:GREGORIAN
BEGIN:VEVENT
DTSTART:20110407T010000Z
DTEND:20110407T023000Z
X-MICROSOFT-CDO-ALLDAYEVENT:FALSE
SUMMARY:City and County: Culture Feast-Voices of PHAMALY
DESCRIPTION:As part of Culture Feast Cultural Affairs presents- Voices of PHAMALY is a unique outreach show that showcases the incredible talents of this one of a kind theatre company though upbeat and entertaining songs from past PHAMALY musicals. Highlights will include songs from recent productions such as Guys and Dolls\, The Wiz\, Man of La Mancha and last summer's blockbuster hit Disney's Beauty and the Beast. Don't miss the chance to hear some of Colorado?s best award winning voices in their first appearance at the Broomfield Auditorium\n\n\n\nNow in its 22nd season\, PHAMALY'S mission is to provide professional theatre opportunities and artistic development for performers with disabilities\, and to promote the inclusion of people with disabilities in the performing arts community.\n\n\n\nFor more info go to www.phamaly.org
X-ALT-DESC;FMTTYPE=text/html:As part of Culture Feast Cultural Affairs presents- <strong>Voices of PHAMALY</strong> is a unique outreach show that showcases the incredible talents of this one of a kind theatre company though upbeat and entertaining songs from past PHAMALY musicals. Highlights will include songs from recent productions such as Guys and Dolls\, The Wiz\, Man of La Mancha and last summer&#39\;s blockbuster hit Disney&#39\;s Beauty and the Beast. Don&#39\;t miss the chance to hear some of Colorado?s best award winning voices in their first appearance at the Broomfield Auditorium<br />\n<br />\nNow in its 22nd season\, PHAMALY&#39\;S mission is to provide professional theatre opportunities and artistic development for performers with disabilities\, and to promote the inclusion of people with disabilities in the performing arts community.<br />\n<br />\n<strong>For more info go to www.phamaly.org </strong>
LOCATION:Broomfield Auditorium
UID:e.641.1367
SEQUENCE:3
DTSTAMP:20260420T093932Z
URL:http://business.broomfieldchamber.com/events/details/city-and-county-culture-feast-voices-of-phamaly-04-06-2011-1367
END:VEVENT

END:VCALENDAR
