BEGIN:VCALENDAR
VERSION:2.0
PRODID:-//ChamberMaster//Event Calendar 2.0//EN
METHOD:PUBLISH
X-PUBLISHED-TTL:P3D
REFRESH-INTERVAL:P3D
CALSCALE:GREGORIAN
BEGIN:VEVENT
DTSTART:20120317T010000Z
DTEND:20120317T030000Z
X-MICROSOFT-CDO-ALLDAYEVENT:FALSE
SUMMARY:Colcannon...Authentic Joyous Irish Music!
DESCRIPTION:Cultural Affairs presents Colcannon\n\n	Authentic Joyous Irish Music!\n\n	Tickets: Adults $15\, Seniors and Students $10 www.brownpapertickets.com
X-ALT-DESC;FMTTYPE=text/html:<p>\n	Cultural Affairs presents Colcannon</p>\n<p>\n	Authentic Joyous Irish Music!</p>\n<p>\n	Tickets: Adults $15\, Seniors and Students $10 <a href="http://www.brownpapertickets.com">www.brownpapertickets.com</a></p>\n
LOCATION:Broomfield Auditorium 3 Community Park Rd Broomfield CO 80020
UID:e.641.3219
SEQUENCE:3
DTSTAMP:20260419T175303Z
URL:http://business.broomfieldchamber.com/events/details/colcannon-authentic-joyous-irish-music-03-16-2012-3219
END:VEVENT

END:VCALENDAR
