BEGIN:VCALENDAR
VERSION:2.0
PRODID:-//ChamberMaster//Event Calendar 2.0//EN
METHOD:PUBLISH
X-PUBLISHED-TTL:P3D
REFRESH-INTERVAL:P3D
CALSCALE:GREGORIAN
BEGIN:VEVENT
DTSTART:20110930T210000Z
DTEND:20111001T020000Z
X-MICROSOFT-CDO-ALLDAYEVENT:FALSE
SUMMARY:COLORADO MIND AND BODY FRIDAY NIGHT STRETCH
DESCRIPTION:NEUROLOGICAL SEMINAR ON CONCUSSION SCREENING\, TREATMENT AND INJURY PREVENTION. Every 2nd and 4th Sunday at Colorado Pediatric Neurology and Headache. \n\n\n\nLED BY: Tonia M Sabo\, MD \n\nBoard Certified Pediatric Neurologist and Board Certified Headache Specialist.
X-ALT-DESC;FMTTYPE=text/html:NEUROLOGICAL SEMINAR ON CONCUSSION SCREENING\, TREATMENT AND INJURY PREVENTION. Every 2nd and 4th Sunday at Colorado Pediatric Neurology and Headache.&nbsp\;<br />\n<br />\nLED BY: Tonia M Sabo\, MD&nbsp\;<br />\nBoard Certified Pediatric Neurologist and Board Certified Headache Specialist.<br />\n<br />\n
LOCATION:340 E 1st Ave suite 205 A Broomfield\, co 80045 303-439-7777
UID:e.641.2924
SEQUENCE:3
DTSTAMP:20260420T034620Z
URL:http://business.broomfieldchamber.com/events/details/colorado-mind-and-body-friday-night-stretch-09-30-2011-2924
END:VEVENT

END:VCALENDAR
