BEGIN:VCALENDAR
VERSION:2.0
PRODID:-//ChamberMaster//Event Calendar 2.0//EN
METHOD:PUBLISH
X-PUBLISHED-TTL:P3D
REFRESH-INTERVAL:P3D
CALSCALE:GREGORIAN
BEGIN:VEVENT
DTSTART;VALUE=DATE:20100829
DTEND;VALUE=DATE:20100830
TRANSP:TRANSPARENT
X-MICROSOFT-CDO-ALLDAYEVENT:TRUE
SUMMARY:Colorado Sport International AirShow
DESCRIPTION:
X-ALT-DESC;FMTTYPE=text/html:
LOCATION:
UID:e.641.1167
SEQUENCE:3
DTSTAMP:20260420T233550Z
URL:http://business.broomfieldchamber.com/events/details/colorado-sport-international-airshow-08-29-2010-1167
END:VEVENT

END:VCALENDAR
