BEGIN:VCALENDAR
VERSION:2.0
PRODID:-//ChamberMaster//Event Calendar 2.0//EN
METHOD:PUBLISH
X-PUBLISHED-TTL:P3D
REFRESH-INTERVAL:P3D
CALSCALE:GREGORIAN
BEGIN:VEVENT
DTSTART:20120616T160000Z
DTEND:20120616T200000Z
X-MICROSOFT-CDO-ALLDAYEVENT:FALSE
SUMMARY:Community Carnival
DESCRIPTION:
X-ALT-DESC;FMTTYPE=text/html:
LOCATION:Summit Bank & Trust 2002 E Coalton Rd Broomfield\, CO 80027
UID:e.641.4183
SEQUENCE:3
DTSTAMP:20260419T132359Z
URL:http://business.broomfieldchamber.com/events/details/community-carnival-06-16-2012-4183
END:VEVENT

END:VCALENDAR
