BEGIN:VCALENDAR
VERSION:2.0
PRODID:-//ChamberMaster//Event Calendar 2.0//EN
METHOD:PUBLISH
X-PUBLISHED-TTL:P3D
REFRESH-INTERVAL:P3D
CALSCALE:GREGORIAN
BEGIN:VEVENT
DTSTART:20110625T150000Z
DTEND:20110625T180000Z
X-MICROSOFT-CDO-ALLDAYEVENT:FALSE
SUMMARY:Community Shred Event at First National Bank
DESCRIPTION:Shred It\, Neighbor! \nFirst National Bank of Colorado will be holding its 2nd Annual Shred Day on Saturday June 25th\, from 9am to 12pm. First National Bank will be partnering with the Broomfield Poilce Depart and FISH of Broomfield\, Broomfield county's local food bank. Bring any canned goods to support FISH and we will shred up to 3 boxes or bags for free!
X-ALT-DESC;FMTTYPE=text/html:<p style="text-align: center">\n	<span style="font-family: courier new"><strong>Shred It\, Neighbor! </strong></span></p>\n<span style="font-family: courier new"><strong>First National Bank of Colorado will be holding its 2nd Annual Shred Day on Saturday June 25th\, from 9am to 12pm. First National Bank will be partnering with&nbsp\;the Broomfield Poilce Depart and FISH of Broomfield\, Broomfield county&#39\;s local food bank. Bring any canned goods to support FISH and we will shred up to 3 boxes or bags for free! </strong></span><br />\n
LOCATION:First National Bank 12009 Sheridan Blvd Broomfield CO 80020
UID:e.641.1501
SEQUENCE:3
DTSTAMP:20260420T063752Z
URL:http://business.broomfieldchamber.com/events/details/community-shred-event-at-first-national-bank-06-25-2011-1501
END:VEVENT

END:VCALENDAR
