BEGIN:VCALENDAR
VERSION:2.0
PRODID:-//ChamberMaster//Event Calendar 2.0//EN
METHOD:PUBLISH
X-PUBLISHED-TTL:P3D
REFRESH-INTERVAL:P3D
CALSCALE:GREGORIAN
BEGIN:VEVENT
DTSTART:20110921T180000Z
DTEND:20110921T190000Z
X-MICROSOFT-CDO-ALLDAYEVENT:FALSE
SUMMARY:Commute Workshop
DESCRIPTION:Normal\n  0\n  \n  \n  \n  \n  false\n  false\n  false\n  \n  EN-US\n  X-NONE\n  X-NONE\n  \n   \n   \n   \n   \n   \n   \n   \n   \n   \n   \n   \n  \n  MicrosoftInternetExplorer4\n  \n   \n   \n   \n   \n   \n   \n   \n   \n   \n   \n   \n  \n\n \n  \n  \n  \n  \n  \n  \n  \n  \n  \n  \n  \n  \n  \n  \n  \n  \n  \n  \n  \n  \n  \n  \n  \n  \n  \n  \n  \n  \n  \n  \n  \n  \n  \n  \n  \n  \n  \n  \n  \n  \n  \n  \n  \n  \n  \n  \n  \n  \n  \n  \n  \n  \n  \n  \n  \n  \n  \n  \n  \n  \n  \n  \n  \n  \n  \n  \n  \n  \n  \n  \n  \n  \n  \n  \n  \n  \n  \n  \n  \n  \n  \n  \n  \n  \n  \n  \n  \n  \n  \n  \n  \n  \n  \n  \n  \n  \n  \n  \n  \n  \n  \n  \n  \n  \n  \n  \n  \n  \n  \n  \n  \n  \n  \n  \n  \n  \n  \n  \n  \n  \n  \n  \n  \n  \n  \n  \n  \n  \n  \n  \n  \n  \n  \n  \n  \n  \n  \n \n\n\n /* Style Definitions */\n table.MsoNormalTable\n	{mso-style-name:"Table Normal"\;\n	mso-tstyle-rowband-size:0\;\n	mso-tstyle-colband-size:0\;\n	mso-style-noshow:yes\;\n	mso-style-priority:99\;\n	mso-style-qformat:yes\;\n	mso-style-parent:""\;\n	mso-padding-alt:0in 5.4pt 0in 5.4pt\;\n	mso-para-margin:0in\;\n	mso-para-margin-bottom:.0001pt\;\n	mso-pagination:widow-orphan\;\n	font-size:10.0pt\;\n	font-family:"Times New Roman"\,"serif"\;}\n\n\n\n	U.S. 36 Businesses:  Are you interested in learning about ridesharing\, pending RTD service changes in January and 36 Commuting Solutions' newest commuter programs?  Please attend the Workplace Ambassador Network meeting on September 21\, from 12:00   1:00 PM at Key Equipment Finance\, 1000 South McCaslin Boulevard\, Superior.  Lunch is on us!\n\n	The meeting agenda will include a chance to:\n\n	          Tour a vanpool vehicle and learn the basics about vanpooling.\n\n	          Learn how to use the latest tools to form carpools at your office.\n\n	          Learn about new U.S. 36 commuter programs coming your way in 2012.\n\n	          Find out more about January 2012 Proposed RTD service changes.\n\n	          Apply for the Awesome Ambassador Award $100 Mini-Grant.\n\n	Space is limited\, so please RSVP to Catherine at catherine@36commutingsolutions.org by Friday\, September 16.  Lunch will be provided.\n\n	Add the meeting to your calendar here!
X-ALT-DESC;FMTTYPE=text/html:<!--[if gte mso 9]><xml>\n <w:WordDocument>\n  <w:View>Normal</w:View>\n  <w:Zoom>0</w:Zoom>\n  <w:TrackMoves/>\n  <w:TrackFormatting/>\n  <w:PunctuationKerning/>\n  <w:ValidateAgainstSchemas/>\n  <w:SaveIfXMLInvalid>false</w:SaveIfXMLInvalid>\n  <w:IgnoreMixedContent>false</w:IgnoreMixedContent>\n  <w:AlwaysShowPlaceholderText>false</w:AlwaysShowPlaceholderText>\n  <w:DoNotPromoteQF/>\n  <w:LidThemeOther>EN-US</w:LidThemeOther>\n  <w:LidThemeAsian>X-NONE</w:LidThemeAsian>\n  <w:LidThemeComplexScript>X-NONE</w:LidThemeComplexScript>\n  <w:Compatibility>\n   <w:BreakWrappedTables/>\n   <w:SnapToGridInCell/>\n   <w:WrapTextWithPunct/>\n   <w:UseAsianBreakRules/>\n   <w:DontGrowAutofit/>\n   <w:SplitPgBreakAndParaMark/>\n   <w:DontVertAlignCellWithSp/>\n   <w:DontBreakConstrainedForcedTables/>\n   <w:DontVertAlignInTxbx/>\n   <w:Word11KerningPairs/>\n   <w:CachedColBalance/>\n  </w:Compatibility>\n  <w:BrowserLevel>MicrosoftInternetExplorer4</w:BrowserLevel>\n  <m:mathPr>\n   <m:mathFont m:val="Cambria Math"/>\n   <m:brkBin m:val="before"/>\n   <m:brkBinSub m:val="&#45\;-"/>\n   <m:smallFrac m:val="off"/>\n   <m:dispDef/>\n   <m:lMargin m:val="0"/>\n   <m:rMargin m:val="0"/>\n   <m:defJc m:val="centerGroup"/>\n   <m:wrapIndent m:val="1440"/>\n   <m:intLim m:val="subSup"/>\n   <m:naryLim m:val="undOvr"/>\n  </m:mathPr></w:WordDocument>\n</xml><![endif]--><!--[if gte mso 9]><xml>\n <w:LatentStyles DefLockedState="false" DefUnhideWhenUsed="true"\n  DefSemiHidden="true" DefQFormat="false" DefPriority="99"\n  LatentStyleCount="267">\n  <w:LsdException Locked="false" Priority="0" SemiHidden="false"\n   UnhideWhenUsed="false" QFormat="true" Name="Normal"/>\n  <w:LsdException Locked="false" Priority="9" SemiHidden="false"\n   UnhideWhenUsed="false" QFormat="true" Name="heading 1"/>\n  <w:LsdException Locked="false" Priority="9" QFormat="true" Name="heading 2"/>\n  <w:LsdException Locked="false" Priority="9" QFormat="true" Name="heading 3"/>\n  <w:LsdException Locked="false" Priority="9" QFormat="true" Name="heading 4"/>\n  <w:LsdException Locked="false" Priority="9" QFormat="true" Name="heading 5"/>\n  <w:LsdException Locked="false" Priority="9" QFormat="true" Name="heading 6"/>\n  <w:LsdException Locked="false" Priority="9" QFormat="true" Name="heading 7"/>\n  <w:LsdException Locked="false" Priority="9" QFormat="true" Name="heading 8"/>\n  <w:LsdException Locked="false" Priority="9" QFormat="true" Name="heading 9"/>\n  <w:LsdException Locked="false" Priority="39" Name="toc 1"/>\n  <w:LsdException Locked="false" Priority="39" Name="toc 2"/>\n  <w:LsdException Locked="false" Priority="39" Name="toc 3"/>\n  <w:LsdException Locked="false" Priority="39" Name="toc 4"/>\n  <w:LsdException Locked="false" Priority="39" Name="toc 5"/>\n  <w:LsdException Locked="false" Priority="39" Name="toc 6"/>\n  <w:LsdException Locked="false" Priority="39" Name="toc 7"/>\n  <w:LsdException Locked="false" Priority="39" Name="toc 8"/>\n  <w:LsdException Locked="false" Priority="39" Name="toc 9"/>\n  <w:LsdException Locked="false" Priority="35" QFormat="true" Name="caption"/>\n  <w:LsdException Locked="false" Priority="10" SemiHidden="false"\n   UnhideWhenUsed="false" QFormat="true" Name="Title"/>\n  <w:LsdException Locked="false" Priority="1" Name="Default Paragraph Font"/>\n  <w:LsdException Locked="false" Priority="11" SemiHidden="false"\n   UnhideWhenUsed="false" QFormat="true" Name="Subtitle"/>\n  <w:LsdException Locked="false" Priority="22" SemiHidden="false"\n   UnhideWhenUsed="false" QFormat="true" Name="Strong"/>\n  <w:LsdException Locked="false" Priority="20" SemiHidden="false"\n   UnhideWhenUsed="false" QFormat="true" Name="Emphasis"/>\n  <w:LsdException Locked="false" Priority="59" SemiHidden="false"\n   UnhideWhenUsed="false" Name="Table Grid"/>\n  <w:LsdException Locked="false" UnhideWhenUsed="false" Name="Placeholder Text"/>\n  <w:LsdException Locked="false" Priority="1" SemiHidden="false"\n   UnhideWhenUsed="false" QFormat="true" Name="No Spacing"/>\n  <w:LsdException Locked="false" Priority="60" SemiHidden="false"\n   UnhideWhenUsed="false" Name="Light Shading"/>\n  <w:LsdException Locked="false" Priority="61" SemiHidden="false"\n   UnhideWhenUsed="false" Name="Light List"/>\n  <w:LsdException Locked="false" Priority="62" SemiHidden="false"\n   UnhideWhenUsed="false" Name="Light Grid"/>\n  <w:LsdException Locked="false" Priority="63" SemiHidden="false"\n   UnhideWhenUsed="false" Name="Medium Shading 1"/>\n  <w:LsdException Locked="false" Priority="64" SemiHidden="false"\n   UnhideWhenUsed="false" Name="Medium Shading 2"/>\n  <w:LsdException Locked="false" Priority="65" SemiHidden="false"\n   UnhideWhenUsed="false" Name="Medium List 1"/>\n  <w:LsdException Locked="false" Priority="66" SemiHidden="false"\n   UnhideWhenUsed="false" Name="Medium List 2"/>\n  <w:LsdException Locked="false" Priority="67" SemiHidden="false"\n   UnhideWhenUsed="false" Name="Medium Grid 1"/>\n  <w:LsdException Locked="false" Priority="68" SemiHidden="false"\n   UnhideWhenUsed="false" Name="Medium Grid 2"/>\n  <w:LsdException Locked="false" Priority="69" SemiHidden="false"\n   UnhideWhenUsed="false" Name="Medium Grid 3"/>\n  <w:LsdException Locked="false" Priority="70" SemiHidden="false"\n   UnhideWhenUsed="false" Name="Dark List"/>\n  <w:LsdException Locked="false" Priority="71" SemiHidden="false"\n   UnhideWhenUsed="false" Name="Colorful Shading"/>\n  <w:LsdException Locked="false" Priority="72" SemiHidden="false"\n   UnhideWhenUsed="false" Name="Colorful List"/>\n  <w:LsdException Locked="false" Priority="73" SemiHidden="false"\n   UnhideWhenUsed="false" Name="Colorful Grid"/>\n  <w:LsdException Locked="false" Priority="60" SemiHidden="false"\n   UnhideWhenUsed="false" Name="Light Shading Accent 1"/>\n  <w:LsdException Locked="false" Priority="61" SemiHidden="false"\n   UnhideWhenUsed="false" Name="Light List Accent 1"/>\n  <w:LsdException Locked="false" Priority="62" SemiHidden="false"\n   UnhideWhenUsed="false" Name="Light Grid Accent 1"/>\n  <w:LsdException Locked="false" Priority="63" SemiHidden="false"\n   UnhideWhenUsed="false" Name="Medium Shading 1 Accent 1"/>\n  <w:LsdException Locked="false" Priority="64" SemiHidden="false"\n   UnhideWhenUsed="false" Name="Medium Shading 2 Accent 1"/>\n  <w:LsdException Locked="false" Priority="65" SemiHidden="false"\n   UnhideWhenUsed="false" Name="Medium List 1 Accent 1"/>\n  <w:LsdException Locked="false" UnhideWhenUsed="false" Name="Revision"/>\n  <w:LsdException Locked="false" Priority="34" SemiHidden="false"\n   UnhideWhenUsed="false" QFormat="true" Name="List Paragraph"/>\n  <w:LsdException Locked="false" Priority="29" SemiHidden="false"\n   UnhideWhenUsed="false" QFormat="true" Name="Quote"/>\n  <w:LsdException Locked="false" Priority="30" SemiHidden="false"\n   UnhideWhenUsed="false" QFormat="true" Name="Intense Quote"/>\n  <w:LsdException Locked="false" Priority="66" SemiHidden="false"\n   UnhideWhenUsed="false" Name="Medium List 2 Accent 1"/>\n  <w:LsdException Locked="false" Priority="67" SemiHidden="false"\n   UnhideWhenUsed="false" Name="Medium Grid 1 Accent 1"/>\n  <w:LsdException Locked="false" Priority="68" SemiHidden="false"\n   UnhideWhenUsed="false" Name="Medium Grid 2 Accent 1"/>\n  <w:LsdException Locked="false" Priority="69" SemiHidden="false"\n   UnhideWhenUsed="false" Name="Medium Grid 3 Accent 1"/>\n  <w:LsdException Locked="false" Priority="70" SemiHidden="false"\n   UnhideWhenUsed="false" Name="Dark List Accent 1"/>\n  <w:LsdException Locked="false" Priority="71" SemiHidden="false"\n   UnhideWhenUsed="false" Name="Colorful Shading Accent 1"/>\n  <w:LsdException Locked="false" Priority="72" SemiHidden="false"\n   UnhideWhenUsed="false" Name="Colorful List Accent 1"/>\n  <w:LsdException Locked="false" Priority="73" SemiHidden="false"\n   UnhideWhenUsed="false" Name="Colorful Grid Accent 1"/>\n  <w:LsdException Locked="false" Priority="60" SemiHidden="false"\n   UnhideWhenUsed="false" Name="Light Shading Accent 2"/>\n  <w:LsdException Locked="false" Priority="61" SemiHidden="false"\n   UnhideWhenUsed="false" Name="Light List Accent 2"/>\n  <w:LsdException Locked="false" Priority="62" SemiHidden="false"\n   UnhideWhenUsed="false" Name="Light Grid Accent 2"/>\n  <w:LsdException Locked="false" Priority="63" SemiHidden="false"\n   UnhideWhenUsed="false" Name="Medium Shading 1 Accent 2"/>\n  <w:LsdException Locked="false" Priority="64" SemiHidden="false"\n   UnhideWhenUsed="false" Name="Medium Shading 2 Accent 2"/>\n  <w:LsdException Locked="false" Priority="65" SemiHidden="false"\n   UnhideWhenUsed="false" Name="Medium List 1 Accent 2"/>\n  <w:LsdException Locked="false" Priority="66" SemiHidden="false"\n   UnhideWhenUsed="false" Name="Medium List 2 Accent 2"/>\n  <w:LsdException Locked="false" Priority="67" SemiHidden="false"\n   UnhideWhenUsed="false" Name="Medium Grid 1 Accent 2"/>\n  <w:LsdException Locked="false" Priority="68" SemiHidden="false"\n   UnhideWhenUsed="false" Name="Medium Grid 2 Accent 2"/>\n  <w:LsdException Locked="false" Priority="69" SemiHidden="false"\n   UnhideWhenUsed="false" Name="Medium Grid 3 Accent 2"/>\n  <w:LsdException Locked="false" Priority="70" SemiHidden="false"\n   UnhideWhenUsed="false" Name="Dark List Accent 2"/>\n  <w:LsdException Locked="false" Priority="71" SemiHidden="false"\n   UnhideWhenUsed="false" Name="Colorful Shading Accent 2"/>\n  <w:LsdException Locked="false" Priority="72" SemiHidden="false"\n   UnhideWhenUsed="false" Name="Colorful List Accent 2"/>\n  <w:LsdException Locked="false" Priority="73" SemiHidden="false"\n   UnhideWhenUsed="false" Name="Colorful Grid Accent 2"/>\n  <w:LsdException Locked="false" Priority="60" SemiHidden="false"\n   UnhideWhenUsed="false" Name="Light Shading Accent 3"/>\n  <w:LsdException Locked="false" Priority="61" SemiHidden="false"\n   UnhideWhenUsed="false" Name="Light List Accent 3"/>\n  <w:LsdException Locked="false" Priority="62" SemiHidden="false"\n   UnhideWhenUsed="false" Name="Light Grid Accent 3"/>\n  <w:LsdException Locked="false" Priority="63" SemiHidden="false"\n   UnhideWhenUsed="false" Name="Medium Shading 1 Accent 3"/>\n  <w:LsdException Locked="false" Priority="64" SemiHidden="false"\n   UnhideWhenUsed="false" Name="Medium Shading 2 Accent 3"/>\n  <w:LsdException Locked="false" Priority="65" SemiHidden="false"\n   UnhideWhenUsed="false" Name="Medium List 1 Accent 3"/>\n  <w:LsdException Locked="false" Priority="66" SemiHidden="false"\n   UnhideWhenUsed="false" Name="Medium List 2 Accent 3"/>\n  <w:LsdException Locked="false" Priority="67" SemiHidden="false"\n   UnhideWhenUsed="false" Name="Medium Grid 1 Accent 3"/>\n  <w:LsdException Locked="false" Priority="68" SemiHidden="false"\n   UnhideWhenUsed="false" Name="Medium Grid 2 Accent 3"/>\n  <w:LsdException Locked="false" Priority="69" SemiHidden="false"\n   UnhideWhenUsed="false" Name="Medium Grid 3 Accent 3"/>\n  <w:LsdException Locked="false" Priority="70" SemiHidden="false"\n   UnhideWhenUsed="false" Name="Dark List Accent 3"/>\n  <w:LsdException Locked="false" Priority="71" SemiHidden="false"\n   UnhideWhenUsed="false" Name="Colorful Shading Accent 3"/>\n  <w:LsdException Locked="false" Priority="72" SemiHidden="false"\n   UnhideWhenUsed="false" Name="Colorful List Accent 3"/>\n  <w:LsdException Locked="false" Priority="73" SemiHidden="false"\n   UnhideWhenUsed="false" Name="Colorful Grid Accent 3"/>\n  <w:LsdException Locked="false" Priority="60" SemiHidden="false"\n   UnhideWhenUsed="false" Name="Light Shading Accent 4"/>\n  <w:LsdException Locked="false" Priority="61" SemiHidden="false"\n   UnhideWhenUsed="false" Name="Light List Accent 4"/>\n  <w:LsdException Locked="false" Priority="62" SemiHidden="false"\n   UnhideWhenUsed="false" Name="Light Grid Accent 4"/>\n  <w:LsdException Locked="false" Priority="63" SemiHidden="false"\n   UnhideWhenUsed="false" Name="Medium Shading 1 Accent 4"/>\n  <w:LsdException Locked="false" Priority="64" SemiHidden="false"\n   UnhideWhenUsed="false" Name="Medium Shading 2 Accent 4"/>\n  <w:LsdException Locked="false" Priority="65" SemiHidden="false"\n   UnhideWhenUsed="false" Name="Medium List 1 Accent 4"/>\n  <w:LsdException Locked="false" Priority="66" SemiHidden="false"\n   UnhideWhenUsed="false" Name="Medium List 2 Accent 4"/>\n  <w:LsdException Locked="false" Priority="67" SemiHidden="false"\n   UnhideWhenUsed="false" Name="Medium Grid 1 Accent 4"/>\n  <w:LsdException Locked="false" Priority="68" SemiHidden="false"\n   UnhideWhenUsed="false" Name="Medium Grid 2 Accent 4"/>\n  <w:LsdException Locked="false" Priority="69" SemiHidden="false"\n   UnhideWhenUsed="false" Name="Medium Grid 3 Accent 4"/>\n  <w:LsdException Locked="false" Priority="70" SemiHidden="false"\n   UnhideWhenUsed="false" Name="Dark List Accent 4"/>\n  <w:LsdException Locked="false" Priority="71" SemiHidden="false"\n   UnhideWhenUsed="false" Name="Colorful Shading Accent 4"/>\n  <w:LsdException Locked="false" Priority="72" SemiHidden="false"\n   UnhideWhenUsed="false" Name="Colorful List Accent 4"/>\n  <w:LsdException Locked="false" Priority="73" SemiHidden="false"\n   UnhideWhenUsed="false" Name="Colorful Grid Accent 4"/>\n  <w:LsdException Locked="false" Priority="60" SemiHidden="false"\n   UnhideWhenUsed="false" Name="Light Shading Accent 5"/>\n  <w:LsdException Locked="false" Priority="61" SemiHidden="false"\n   UnhideWhenUsed="false" Name="Light List Accent 5"/>\n  <w:LsdException Locked="false" Priority="62" SemiHidden="false"\n   UnhideWhenUsed="false" Name="Light Grid Accent 5"/>\n  <w:LsdException Locked="false" Priority="63" SemiHidden="false"\n   UnhideWhenUsed="false" Name="Medium Shading 1 Accent 5"/>\n  <w:LsdException Locked="false" Priority="64" SemiHidden="false"\n   UnhideWhenUsed="false" Name="Medium Shading 2 Accent 5"/>\n  <w:LsdException Locked="false" Priority="65" SemiHidden="false"\n   UnhideWhenUsed="false" Name="Medium List 1 Accent 5"/>\n  <w:LsdException Locked="false" Priority="66" SemiHidden="false"\n   UnhideWhenUsed="false" Name="Medium List 2 Accent 5"/>\n  <w:LsdException Locked="false" Priority="67" SemiHidden="false"\n   UnhideWhenUsed="false" Name="Medium Grid 1 Accent 5"/>\n  <w:LsdException Locked="false" Priority="68" SemiHidden="false"\n   UnhideWhenUsed="false" Name="Medium Grid 2 Accent 5"/>\n  <w:LsdException Locked="false" Priority="69" SemiHidden="false"\n   UnhideWhenUsed="false" Name="Medium Grid 3 Accent 5"/>\n  <w:LsdException Locked="false" Priority="70" SemiHidden="false"\n   UnhideWhenUsed="false" Name="Dark List Accent 5"/>\n  <w:LsdException Locked="false" Priority="71" SemiHidden="false"\n   UnhideWhenUsed="false" Name="Colorful Shading Accent 5"/>\n  <w:LsdException Locked="false" Priority="72" SemiHidden="false"\n   UnhideWhenUsed="false" Name="Colorful List Accent 5"/>\n  <w:LsdException Locked="false" Priority="73" SemiHidden="false"\n   UnhideWhenUsed="false" Name="Colorful Grid Accent 5"/>\n  <w:LsdException Locked="false" Priority="60" SemiHidden="false"\n   UnhideWhenUsed="false" Name="Light Shading Accent 6"/>\n  <w:LsdException Locked="false" Priority="61" SemiHidden="false"\n   UnhideWhenUsed="false" Name="Light List Accent 6"/>\n  <w:LsdException Locked="false" Priority="62" SemiHidden="false"\n   UnhideWhenUsed="false" Name="Light Grid Accent 6"/>\n  <w:LsdException Locked="false" Priority="63" SemiHidden="false"\n   UnhideWhenUsed="false" Name="Medium Shading 1 Accent 6"/>\n  <w:LsdException Locked="false" Priority="64" SemiHidden="false"\n   UnhideWhenUsed="false" Name="Medium Shading 2 Accent 6"/>\n  <w:LsdException Locked="false" Priority="65" SemiHidden="false"\n   UnhideWhenUsed="false" Name="Medium List 1 Accent 6"/>\n  <w:LsdException Locked="false" Priority="66" SemiHidden="false"\n   UnhideWhenUsed="false" Name="Medium List 2 Accent 6"/>\n  <w:LsdException Locked="false" Priority="67" SemiHidden="false"\n   UnhideWhenUsed="false" Name="Medium Grid 1 Accent 6"/>\n  <w:LsdException Locked="false" Priority="68" SemiHidden="false"\n   UnhideWhenUsed="false" Name="Medium Grid 2 Accent 6"/>\n  <w:LsdException Locked="false" Priority="69" SemiHidden="false"\n   UnhideWhenUsed="false" Name="Medium Grid 3 Accent 6"/>\n  <w:LsdException Locked="false" Priority="70" SemiHidden="false"\n   UnhideWhenUsed="false" Name="Dark List Accent 6"/>\n  <w:LsdException Locked="false" Priority="71" SemiHidden="false"\n   UnhideWhenUsed="false" Name="Colorful Shading Accent 6"/>\n  <w:LsdException Locked="false" Priority="72" SemiHidden="false"\n   UnhideWhenUsed="false" Name="Colorful List Accent 6"/>\n  <w:LsdException Locked="false" Priority="73" SemiHidden="false"\n   UnhideWhenUsed="false" Name="Colorful Grid Accent 6"/>\n  <w:LsdException Locked="false" Priority="19" SemiHidden="false"\n   UnhideWhenUsed="false" QFormat="true" Name="Subtle Emphasis"/>\n  <w:LsdException Locked="false" Priority="21" SemiHidden="false"\n   UnhideWhenUsed="false" QFormat="true" Name="Intense Emphasis"/>\n  <w:LsdException Locked="false" Priority="31" SemiHidden="false"\n   UnhideWhenUsed="false" QFormat="true" Name="Subtle Reference"/>\n  <w:LsdException Locked="false" Priority="32" SemiHidden="false"\n   UnhideWhenUsed="false" QFormat="true" Name="Intense Reference"/>\n  <w:LsdException Locked="false" Priority="33" SemiHidden="false"\n   UnhideWhenUsed="false" QFormat="true" Name="Book Title"/>\n  <w:LsdException Locked="false" Priority="37" Name="Bibliography"/>\n  <w:LsdException Locked="false" Priority="39" QFormat="true" Name="TOC Heading"/>\n </w:LatentStyles>\n</xml><![endif]--><!--[if gte mso 10]>\n<style>\n /* Style Definitions */\n table.MsoNormalTable\n	{mso-style-name:"Table Normal"\;\n	mso-tstyle-rowband-size:0\;\n	mso-tstyle-colband-size:0\;\n	mso-style-noshow:yes\;\n	mso-style-priority:99\;\n	mso-style-qformat:yes\;\n	mso-style-parent:""\;\n	mso-padding-alt:0in 5.4pt 0in 5.4pt\;\n	mso-para-margin:0in\;\n	mso-para-margin-bottom:.0001pt\;\n	mso-pagination:widow-orphan\;\n	font-size:10.0pt\;\n	font-family:"Times New Roman"\,"serif"\;}\n</style>\n<![endif]-->\n<p class="MsoNormal" style="margin-left:.5in">\n	U.S. 36 Businesses:&nbsp\; Are you interested in learning about ridesharing\, pending RTD service changes in January and 36 Commuting Solutions&rsquo\; newest commuter programs?&nbsp\; Please attend the <a href="http://36commutingsolutions.org/commuting-us-36/workplace-ambassador-network/">Workplace Ambassador Network</a> meeting on September 21\, from 12:00 &ndash\; 1:00 PM at Key Equipment Finance\, 1000 South McCaslin Boulevard\, Superior.&nbsp\; Lunch is on us!</p>\n<p class="MsoNormal" style="margin-left:.5in">\n	The <a href="http://36commutingsolutions.org/us36/wp-content/uploads/September-WAN-Agenda.pdf">meeting agenda</a> will include a chance to:</p>\n<p class="MsoNormal" style="margin-left:.75in\;text-indent:-.25in\;mso-list:l0 level1 lfo1\;\ntab-stops:list .25in">\n	<span style="font-size:10.0pt\;\nmso-bidi-font-size:11.0pt\;font-family:Symbol\;mso-fareast-font-family:Symbol\;\nmso-bidi-font-family:Symbol"><span style="mso-list:Ignore">&middot\;<span style="font:7.0pt &quot\;Times New Roman&quot\;">&nbsp\;&nbsp\;&nbsp\;&nbsp\;&nbsp\;&nbsp\;&nbsp\;&nbsp\; </span></span></span>Tour a vanpool vehicle and learn the basics about vanpooling.</p>\n<p class="MsoNormal" style="margin-left:.75in\;text-indent:-.25in\;mso-list:l0 level1 lfo1\;\ntab-stops:list .25in">\n	<span style="font-size:10.0pt\;\nmso-bidi-font-size:11.0pt\;font-family:Symbol\;mso-fareast-font-family:Symbol\;\nmso-bidi-font-family:Symbol"><span style="mso-list:Ignore">&middot\;<span style="font:7.0pt &quot\;Times New Roman&quot\;">&nbsp\;&nbsp\;&nbsp\;&nbsp\;&nbsp\;&nbsp\;&nbsp\;&nbsp\; </span></span></span>Learn how to use the latest tools to form carpools at your office.</p>\n<p class="MsoNormal" style="margin-left:.75in\;text-indent:-.25in\;mso-list:l0 level1 lfo1\;\ntab-stops:list .25in">\n	<span style="font-size:10.0pt\;\nmso-bidi-font-size:11.0pt\;font-family:Symbol\;mso-fareast-font-family:Symbol\;\nmso-bidi-font-family:Symbol"><span style="mso-list:Ignore">&middot\;<span style="font:7.0pt &quot\;Times New Roman&quot\;">&nbsp\;&nbsp\;&nbsp\;&nbsp\;&nbsp\;&nbsp\;&nbsp\;&nbsp\; </span></span></span>Learn about new U.S. 36 commuter programs coming your way in 2012.</p>\n<p class="MsoNormal" style="margin-left:.75in\;text-indent:-.25in\;mso-list:l0 level1 lfo1\;\ntab-stops:list .25in">\n	<span style="font-size:10.0pt\;\nmso-bidi-font-size:11.0pt\;font-family:Symbol\;mso-fareast-font-family:Symbol\;\nmso-bidi-font-family:Symbol"><span style="mso-list:Ignore">&middot\;<span style="font:7.0pt &quot\;Times New Roman&quot\;">&nbsp\;&nbsp\;&nbsp\;&nbsp\;&nbsp\;&nbsp\;&nbsp\;&nbsp\; </span></span></span>Find out more about January 2012 Proposed RTD service changes.</p>\n<p class="MsoNormal" style="margin-left:.75in\;text-indent:-.25in\;mso-list:l0 level1 lfo1\;\ntab-stops:list .25in">\n	<span style="font-size:10.0pt\;\nmso-bidi-font-size:11.0pt\;font-family:Symbol\;mso-fareast-font-family:Symbol\;\nmso-bidi-font-family:Symbol"><span style="mso-list:Ignore">&middot\;<span style="font:7.0pt &quot\;Times New Roman&quot\;">&nbsp\;&nbsp\;&nbsp\;&nbsp\;&nbsp\;&nbsp\;&nbsp\;&nbsp\; </span></span></span>Apply for the <a href="http://36commutingsolutions.org/awesome-ambassador-award-100-mini-grant/">Awesome Ambassador Award $100 Mini-Grant</a>.</p>\n<p class="MsoNormal" style="margin-left:.5in">\n	Space is limited\, so please RSVP to Catherine at <a href="mailto:catherine@36commutingsolutions.org">catherine@36commutingsolutions.org</a> by Friday\, September 16.&nbsp\; Lunch will be provided.</p>\n<p class="MsoNormal" style="margin-left:.5in">\n	<b><i><a href="http://36commutingsolutions.org/us36/wp-content/uploads/WAN-Meeting.ics">Add the meeting to your calendar here!</a></i></b></p>
LOCATION:Key Equipment Finance\, 1000 South McCaslin Boulevard\, Superior
UID:e.641.2908
SEQUENCE:3
DTSTAMP:20260420T020754Z
URL:http://business.broomfieldchamber.com/events/details/commute-workshop-09-21-2011-2908
END:VEVENT

END:VCALENDAR
