BEGIN:VCALENDAR
VERSION:2.0
PRODID:-//ChamberMaster//Event Calendar 2.0//EN
METHOD:PUBLISH
X-PUBLISHED-TTL:P3D
REFRESH-INTERVAL:P3D
CALSCALE:GREGORIAN
BEGIN:VEVENT
DTSTART:20110608T180000Z
DTEND:20110608T190000Z
X-MICROSOFT-CDO-ALLDAYEVENT:FALSE
SUMMARY:COMPLEMENTARY WEIGHT LOSS SEMINAR at Living Well Nutrition
DESCRIPTION:Please join us for a COMPLIMENTARY WEIGHT LOSS SEMINAR. You are going to learn how to get your body into FAT BURNING MODE and finally lose that excess weight and keep it off! Say "no" to fad diets--learn how you can revitalize your own metabolism. Want more energy\, better brain power\, and to regain your vitality? You won't want to miss this seminar. Seating is limited\, so you must register by calling (303) 466-3232 or by going to www.BurnFatBroomfield.com.
X-ALT-DESC;FMTTYPE=text/html:Please join us for a COMPLIMENTARY WEIGHT LOSS SEMINAR. You are going to learn how to get your body into FAT BURNING MODE and finally lose that excess weight and keep it off! Say &quot\;no&quot\; to fad diets--learn how you can revitalize your own metabolism. Want more energy\, better brain power\, and to regain your vitality? You won&rsquo\;t want to miss this seminar. Seating is limited\, so you must register by calling (303) 466-3232 or by going to <a href="http://www.BurnFatBroomfield.com">www.BurnFatBroomfield.com</a>.
LOCATION:54 Garden Center Broomfield\, CO 80020 (Major cross streets are Hwy 287 & Midway)
UID:e.641.1493
SEQUENCE:3
DTSTAMP:20260420T063629Z
URL:http://business.broomfieldchamber.com/events/details/complementary-weight-loss-seminar-at-living-well-nutrition-06-08-2011-1493
END:VEVENT

END:VCALENDAR
