BEGIN:VCALENDAR
VERSION:2.0
PRODID:-//ChamberMaster//Event Calendar 2.0//EN
METHOD:PUBLISH
X-PUBLISHED-TTL:P3D
REFRESH-INTERVAL:P3D
CALSCALE:GREGORIAN
BEGIN:VEVENT
DTSTART:20110301T190000Z
DTEND:20110301T200000Z
X-MICROSOFT-CDO-ALLDAYEVENT:FALSE
SUMMARY:COMPLIMENTARY Weight Loss Seminar at Living Well\, LLC
DESCRIPTION:Please join us for a COMPLIMENTARY WEIGHT LOSS SEMINAR. You are going to learn how to get your body into FAT BURNING MODE and finally lose that excess weight and keep it off! Say "no" to fad diets--learn how you can revitalize your own metabolism. Want more energy\, better brain power\, and to regain your vitality? You won't want to miss this seminar. Seating is limited\, so you must register by calling (303) 466-3232 or by going to www.FatLossDenver.com.
X-ALT-DESC;FMTTYPE=text/html:Please join us for a COMPLIMENTARY WEIGHT LOSS SEMINAR. You are going to learn how to get your body into FAT BURNING MODE and finally lose that excess weight and keep it off! Say "no" to fad diets--learn how you can revitalize your own metabolism. Want more energy\, better brain power\, and to regain your vitality? You won't want to miss this seminar. Seating is limited\, so you must register by calling (303) 466-3232 or by going to www.FatLossDenver.com.
LOCATION:54 Garden Center Broomfield\, CO 80020 (Sign out front says Summit Chiropractic)
UID:e.641.1358
SEQUENCE:3
DTSTAMP:20260420T111048Z
URL:http://business.broomfieldchamber.com/events/details/complimentary-weight-loss-seminar-at-living-well-llc-03-01-2011-1358
END:VEVENT

END:VCALENDAR
