BEGIN:VCALENDAR
VERSION:2.0
PRODID:-//ChamberMaster//Event Calendar 2.0//EN
METHOD:PUBLISH
X-PUBLISHED-TTL:P3D
REFRESH-INTERVAL:P3D
CALSCALE:GREGORIAN
BEGIN:VEVENT
DTSTART:20110901T000000Z
DTEND:20110901T010000Z
X-MICROSOFT-CDO-ALLDAYEVENT:FALSE
SUMMARY:COMPLIMENTARY Weight Loss Seminar at Living Well Nutrition
DESCRIPTION:Please join us for a COMPLIMENTARY WEIGHT LOSS SEMINAR. You are going to learn how to get your body into FAT BURNING MODE and finally lose that excess weight and keep it off! Say "no" to fad diets--learn how you can revitalize your own metabolism. Want more energy\, better brain power\, and how to regain your vitality?  You won't want to miss this seminar!  Seating is limited\, so you must register by calling (303) 466-3232 or by going to www.BurnFatBroomfield.com.
X-ALT-DESC;FMTTYPE=text/html:Please join us for a COMPLIMENTARY WEIGHT LOSS SEMINAR. You are going to learn how to get your body into FAT BURNING MODE and finally lose that excess weight and keep it off! Say &quot\;no&quot\; to fad diets--learn how you can revitalize your own metabolism. Want more energy\, better brain power\, and how to regain your vitality?&nbsp\; You won&rsquo\;t want to miss this seminar!&nbsp\; Seating is limited\, so you must register by calling (303) 466-3232 or by going to www.BurnFatBroomfield.com.
LOCATION:54 Garden Center Broomfield\, CO 80020 (Major cross streets are Hwy 287 & Midway)
UID:e.641.2861
SEQUENCE:3
DTSTAMP:20260420T034923Z
URL:http://business.broomfieldchamber.com/events/details/complimentary-weight-loss-seminar-at-living-well-nutrition-08-31-2011-2861
END:VEVENT

END:VCALENDAR
