BEGIN:VCALENDAR
VERSION:2.0
PRODID:-//ChamberMaster//Event Calendar 2.0//EN
METHOD:PUBLISH
X-PUBLISHED-TTL:P3D
REFRESH-INTERVAL:P3D
CALSCALE:GREGORIAN
BEGIN:VEVENT
DTSTART:20101013T003000Z
DTEND:20101013T013000Z
X-MICROSOFT-CDO-ALLDAYEVENT:FALSE
SUMMARY:COMPLIMENTARY WEIGHT LOSS SEMINAR. Event at Living Well\, LLC
DESCRIPTION:Please join us for a complimentary Weight Loss Seminar. You are going to learn how to get your body into FAT BURNING MODE and finally lose that excess weight and keep it off! Say "no" to fad diets--hear how you can revitalize your own metabolism. Want more energy\, better brain and to regain your vitality then you wont want to miss this seminar. Seating is limited\, so you must register by calling (303) 466-3232.
X-ALT-DESC;FMTTYPE=text/html:Please join us for a complimentary Weight Loss Seminar. You are going to learn how to get your body into FAT BURNING MODE and finally lose that excess weight and keep it off! Say &quot\;no&quot\; to fad diets--hear how you can revitalize your own metabolism. Want more energy\, better brain and to regain your vitality then you wont want to miss this seminar. Seating is limited\, so you must register by calling (303) 466-3232.
LOCATION:54 Garden Center Broomfield\, CO 80020
UID:e.641.1212
SEQUENCE:3
DTSTAMP:20260420T190750Z
URL:http://business.broomfieldchamber.com/events/details/complimentary-weight-loss-seminar-event-at-living-well-llc-10-12-2010-1212
END:VEVENT

END:VCALENDAR
