BEGIN:VCALENDAR
VERSION:2.0
PRODID:-//ChamberMaster//Event Calendar 2.0//EN
METHOD:PUBLISH
X-PUBLISHED-TTL:P3D
REFRESH-INTERVAL:P3D
CALSCALE:GREGORIAN
BEGIN:VEVENT
DTSTART:20100605T193000Z
DTEND:20100606T000000Z
X-MICROSOFT-CDO-ALLDAYEVENT:FALSE
SUMMARY:Concealed Carry Weapons Permit Course
DESCRIPTION:This course meets and exceeds the requirements in Colorado to apply for your concealed carry weapons permit.  Covers basic handgun use\, marksmanship\, nomenclature\, and safety.  Certificates of Completion awarded\, use this certificate to apply in your county!
X-ALT-DESC;FMTTYPE=text/html:<div>This course meets and exceeds the requirements in Colorado to apply for your concealed carry weapons permit.  Covers basic handgun use\, marksmanship\, nomenclature\, and safety.  Certificates of Completion awarded\, use this certificate to apply in your county!</div>
LOCATION:Colorado Krav Maga\, 6821 w. 120th ave Unit C\, Broomfield
UID:e.641.1083
SEQUENCE:3
DTSTAMP:20260421T005859Z
URL:http://business.broomfieldchamber.com/events/details/concealed-carry-weapons-permit-course-06-05-2010-1083
END:VEVENT

END:VCALENDAR
