BEGIN:VCALENDAR
VERSION:2.0
PRODID:-//ChamberMaster//Event Calendar 2.0//EN
METHOD:PUBLISH
X-PUBLISHED-TTL:P3D
REFRESH-INTERVAL:P3D
CALSCALE:GREGORIAN
BEGIN:VEVENT
DTSTART:20111009T010000Z
DTEND:20111009T030000Z
X-MICROSOFT-CDO-ALLDAYEVENT:FALSE
SUMMARY:Concert at City and County of Broomfield
DESCRIPTION:The inventor of the flute\, A.R. Strathmann\, lives in a small town in northern\n\nGermany called Melsdorf. He started building these instruments in 1997 and\n\nmakes them by hand\, one at a time\, in his shop. He took a baroque instrument\,\n\nthe alto blockflute\, (or recorder)\, and designed a complete key system and\n\nacoustical improvements. The instrument sounds like a cross between a\n\nmodern flute\, a recorder\, and a pan fl ute. The concert will feature the instrument\n\nin 4 original compositions\, including a world premiere. The pianist\, Dave Shuey\,\n\nwill be joined by cellist Heather Plattenberger and they will also play a few cello\n\nand piano duos.\n\nTickets available at  www.broomfieldauditorium.com
X-ALT-DESC;FMTTYPE=text/html:The inventor of the flute\, A.R. Strathmann\, lives in a small town in northern<br />\nGermany called Melsdorf. He started building these instruments in 1997 and<br />\nmakes them by hand\, one at a time\, in his shop. He took a baroque instrument\,<br />\nthe alto blockflute\, (or recorder)\, and designed a complete key system and<br />\nacoustical improvements. The instrument sounds like a cross between a<br />\nmodern flute\, a recorder\, and a pan fl ute. The concert will feature the instrument<br />\nin 4 original compositions\, including a world premiere. The pianist\, Dave Shuey\,<br />\nwill be joined by cellist Heather Plattenberger and they will also play a few cello<br />\nand piano duos.<br />\nTickets available at&nbsp\; <a href="http://www.broomfieldauditorium.com">www.broomfieldauditorium.com</a>
LOCATION:Broomfield Auditorium 3 Community Park Road Broomfield CO 80020
UID:e.641.2901
SEQUENCE:3
DTSTAMP:20260420T010932Z
URL:http://business.broomfieldchamber.com/events/details/concert-at-city-and-county-of-broomfield-10-08-2011-2901
END:VEVENT

END:VCALENDAR
