BEGIN:VCALENDAR
VERSION:2.0
PRODID:-//ChamberMaster//Event Calendar 2.0//EN
METHOD:PUBLISH
X-PUBLISHED-TTL:P3D
REFRESH-INTERVAL:P3D
CALSCALE:GREGORIAN
BEGIN:VEVENT
DTSTART:20120619T223000Z
DTEND:20120620T003000Z
X-MICROSOFT-CDO-ALLDAYEVENT:FALSE
SUMMARY:Construction Industry Referral Group "MIXER"
DESCRIPTION:The Construction Industry Referral Group is having a mixer on Tuesday evening.  Come join us for Mexican food and refreshments!
X-ALT-DESC;FMTTYPE=text/html:The Construction Industry Referral Group is having a mixer on Tuesday evening.&nbsp\; Come join us for Mexican food and refreshments!
LOCATION:Rocky Mountain Tax and Accounting 11854 Bradburn Blvd\, Westminster\, CO 80031
UID:e.641.4274
SEQUENCE:3
DTSTAMP:20260419T132511Z
URL:http://business.broomfieldchamber.com/events/details/construction-industry-referral-group-mixer-06-19-2012-4274
END:VEVENT

END:VCALENDAR
