BEGIN:VCALENDAR
VERSION:2.0
PRODID:-//ChamberMaster//Event Calendar 2.0//EN
METHOD:PUBLISH
X-PUBLISHED-TTL:P3D
REFRESH-INTERVAL:P3D
CALSCALE:GREGORIAN
BEGIN:VEVENT
DTSTART:20101002T153000Z
DTEND:20101002T220000Z
X-MICROSOFT-CDO-ALLDAYEVENT:FALSE
SUMMARY:Contemplative Art- A Workshop with Suzanne Frazier
DESCRIPTION:If you have always wanted to draw in your own style in a supportive atmosphere or wanted to draw from a meditative point-of-view\, this the workshop for you.\n\nThere is a great deal of freedom and joy in creating a non-verbal expression. Art is the perfect metaphor for the contemplative experience. As you being to draw with oil pastels\, you will quickly discover you can trust your inner intuitive process to create a drawing you had no idea you could complete when you began.\n\nYou will explore ways to access your creativity\, support your artistic style and express your heart-centered perspective.\n\nFor participants with no art-making experience\, you will have the opportunity to discover your creativity in a safe\, supportive environment. For experienced artists\, the workshop will.
X-ALT-DESC;FMTTYPE=text/html:If you have always wanted to draw in your own style in a supportive atmosphere or wanted to draw from a meditative point-of-view\, this the workshop for you.<br />\nThere is a great deal of freedom and joy in creating a non-verbal expression. Art is the perfect metaphor for the contemplative experience. As you being to draw with oil pastels\, you will quickly discover you can trust your inner intuitive process to create a drawing you had no idea you could complete when you began.<br />\nYou will explore ways to access your creativity\, support your artistic style and express your heart-centered perspective.<br />\nFor participants with no art-making experience\, you will have the opportunity to discover your creativity in a safe\, supportive environment. For experienced artists\, the workshop will.
LOCATION:Mamie Doud Eisenhower Public Library 3 Community Park Rd Broomfield CO
UID:e.641.1187
SEQUENCE:3
DTSTAMP:20260420T202049Z
URL:http://business.broomfieldchamber.com/events/details/contemplative-art-a-workshop-with-suzanne-frazier-10-02-2010-1187
END:VEVENT

END:VCALENDAR
