BEGIN:VCALENDAR
VERSION:2.0
PRODID:-//ChamberMaster//Event Calendar 2.0//EN
METHOD:PUBLISH
X-PUBLISHED-TTL:P3D
REFRESH-INTERVAL:P3D
CALSCALE:GREGORIAN
BEGIN:VEVENT
DTSTART:20101103T163000Z
DTEND:20101104T003000Z
X-MICROSOFT-CDO-ALLDAYEVENT:FALSE
SUMMARY:Costco 20th Anniversary Celebration
DESCRIPTION:All Costo members are welcome to stop by and have a piece of cake to celebrate our 20th Anniversary!
X-ALT-DESC;FMTTYPE=text/html:All Costo members are welcome to stop by and have a piece of cake to celebrate our 20th Anniversary!
LOCATION:6400 W. 92nd Ave. Westminster\, CO 80031
UID:e.641.1226
SEQUENCE:3
DTSTAMP:20260420T185821Z
URL:http://business.broomfieldchamber.com/events/details/costco-20th-anniversary-celebration-11-03-2010-1226
END:VEVENT

END:VCALENDAR
