BEGIN:VCALENDAR
VERSION:2.0
PRODID:-//ChamberMaster//Event Calendar 2.0//EN
METHOD:PUBLISH
X-PUBLISHED-TTL:P3D
REFRESH-INTERVAL:P3D
CALSCALE:GREGORIAN
BEGIN:VEVENT
DTSTART:20090623T060000Z
DTEND:20090623T060000Z
X-MICROSOFT-CDO-ALLDAYEVENT:FALSE
SUMMARY:Creative Business Series 06/09
DESCRIPTION:
X-ALT-DESC;FMTTYPE=text/html:
LOCATION:FlatIron Crossing Community Room
UID:e.641.440
SEQUENCE:3
DTSTAMP:20260421T215614Z
URL:http://business.broomfieldchamber.com/events/details/creative-business-series-06-09-06-23-2009-440
END:VEVENT

END:VCALENDAR
