BEGIN:VCALENDAR
VERSION:2.0
PRODID:-//ChamberMaster//Event Calendar 2.0//EN
METHOD:PUBLISH
X-PUBLISHED-TTL:P3D
REFRESH-INTERVAL:P3D
CALSCALE:GREGORIAN
BEGIN:VEVENT
DTSTART:20091027T060000Z
DTEND:20091027T060000Z
X-MICROSOFT-CDO-ALLDAYEVENT:FALSE
SUMMARY:Creative Business Series 10/09
DESCRIPTION:
X-ALT-DESC;FMTTYPE=text/html:
LOCATION:FlatIron Crossing Community Room
UID:e.641.441
SEQUENCE:3
DTSTAMP:20260421T142212Z
URL:http://business.broomfieldchamber.com/events/details/creative-business-series-10-09-10-27-2009-441
END:VEVENT

END:VCALENDAR
