BEGIN:VCALENDAR
VERSION:2.0
PRODID:-//ChamberMaster//Event Calendar 2.0//EN
METHOD:PUBLISH
X-PUBLISHED-TTL:P3D
REFRESH-INTERVAL:P3D
CALSCALE:GREGORIAN
BEGIN:VEVENT
DTSTART:20120414T230000Z
DTEND:20120415T013000Z
X-MICROSOFT-CDO-ALLDAYEVENT:FALSE
SUMMARY:CU Football Spring Game
DESCRIPTION:Buff Fans\, stand Shoulder to Shoulder with head coach Jon Embree and the Colorado Football team on Saturday\, April 14th for their annual Spring Game at Folsom Field.  \n\n	\n\n	The Spring Game will kickoff at 5 PM and is FREE for all fans. In addition to the Spring Game there will be other events throughout the day including a luncheon with Coach Mac\, an alumni flag football game\, and more. \n\n	\n\n	For more information on all the Spring Game activities\, visit CUBuffs.com/springgame.
X-ALT-DESC;FMTTYPE=text/html:<p class="MsoNormal" style="line-height: normal\; mso-margin-top-alt: auto\; mso-margin-bottom-alt: auto">\n	<span style="font-size: 16px"><span style="font-family: verdana"><strong>Buff Fans\, stand <i>Shoulder to Shoulder</i> with head coach Jon Embree and the Colorado Football team on Saturday\, April 14<sup>th</sup> for their annual Spring Game at Folsom Field.&nbsp\; </strong><br />\n	<br />\n	The Spring Game will kickoff at 5 PM and is <b>FREE</b> for all fans. In addition to the Spring Game there will be other events throughout the day including a luncheon with Coach Mac\, an alumni flag football game\, and more.&nbsp\;<br />\n	<br />\n	For more information on all the Spring Game activities\, visit CUBuffs.com/springgame.</span></span></p>\n
LOCATION:Folsom Field 2400 Colorado Avenue Boulder\, CO 80302
UID:e.641.3944
SEQUENCE:3
DTSTAMP:20260419T161945Z
URL:http://business.broomfieldchamber.com/events/details/cu-football-spring-game-04-14-2012-3944
END:VEVENT

END:VCALENDAR
