BEGIN:VCALENDAR
VERSION:2.0
PRODID:-//ChamberMaster//Event Calendar 2.0//EN
METHOD:PUBLISH
X-PUBLISHED-TTL:P3D
REFRESH-INTERVAL:P3D
CALSCALE:GREGORIAN
BEGIN:VEVENT
DTSTART:20110908T010000Z
DTEND:20110908T030000Z
X-MICROSOFT-CDO-ALLDAYEVENT:FALSE
SUMMARY:CU Jazz at the Broomfield Auditorium
DESCRIPTION:CU Jazz presents\n\n'Till The Clouds Roll By: The Music of Jerome Kern\n\nThe CU Jazz Faculty interprets the timeless melodies of Jerome Kern\, one of America's classic musical theatre composers. Featuring Brad Goode\, trumpet\; John Gunther\, saxophone\; Jeff Jenkins\, piano\; Bijoux Barbosa\, bass\; Paul Romaine\, drums.\n\n\n\nDate: Wednesday\, September 7th\n\n\n\nTime: 7pm\n\n\n\nTickets: Free
X-ALT-DESC;FMTTYPE=text/html:<span style="font-family: verdana"><span style="font-size: 16px"><span style="font-size: 18px"><em><strong><span style="font-size: 20px">CU Jazz presents</span><br />\n&#39\;Till The Clouds Roll By: The Music of Jerome Kern</strong></em></span><br />\n<em><font face="Verdana" size="3">The CU Jazz Faculty interprets the timeless melodies of Jerome Kern\, one of America&#39\;s classic musical theatre composers. Featuring Brad Goode\, trumpet\; John Gunther\, saxophone\; Jeff Jenkins\, piano\; Bijoux Barbosa\, bass\; Paul Romaine\, drums.</font></em><br />\n<br />\nDate: Wednesday\, September 7th<br />\n<br />\nTime: 7pm<br />\n<br />\nTickets: Free</span></span><br />\n<br />\n
LOCATION:Broomfield Auditorium 3 Community Park Drive
UID:e.641.2879
SEQUENCE:3
DTSTAMP:20260420T021203Z
URL:http://business.broomfieldchamber.com/events/details/cu-jazz-at-the-broomfield-auditorium-09-07-2011-2879
END:VEVENT

END:VCALENDAR
