BEGIN:VCALENDAR
VERSION:2.0
PRODID:-//ChamberMaster//Event Calendar 2.0//EN
METHOD:PUBLISH
X-PUBLISHED-TTL:P3D
REFRESH-INTERVAL:P3D
CALSCALE:GREGORIAN
BEGIN:VEVENT
DTSTART:20101104T010000Z
DTEND:20101104T010000Z
X-MICROSOFT-CDO-ALLDAYEVENT:FALSE
SUMMARY:CU Jazz featuring The Brad Goode Trio
DESCRIPTION:CU Jazz returns to the Broomfield Auditorium. This month will feature The Brad Goode Trio.
X-ALT-DESC;FMTTYPE=text/html:CU Jazz returns to the Broomfield Auditorium. This month will feature The Brad Goode Trio.
LOCATION:Broomfield Auditorium 3 Community Park Road
UID:e.641.1197
SEQUENCE:3
DTSTAMP:20260420T173219Z
URL:http://business.broomfieldchamber.com/events/details/cu-jazz-featuring-the-brad-goode-trio-11-03-2010-1197
END:VEVENT

END:VCALENDAR
