BEGIN:VCALENDAR
VERSION:2.0
PRODID:-//ChamberMaster//Event Calendar 2.0//EN
METHOD:PUBLISH
X-PUBLISHED-TTL:P3D
REFRESH-INTERVAL:P3D
CALSCALE:GREGORIAN
BEGIN:VEVENT
DTSTART:20101007T010000Z
DTEND:20101007T030000Z
X-MICROSOFT-CDO-ALLDAYEVENT:FALSE
SUMMARY:CU Jazz - The Music of Oscar Holden
DESCRIPTION:The Music of Oscar Holden\n\n\n\nThe CU Jazz musicians will do a performance featuring works by Oscar Holden\, whose music was an integral part of the One Book\, One Broomfield choice Hotel on the Corner of Bitter and Sweet by Jamie Ford.
X-ALT-DESC;FMTTYPE=text/html:The Music of Oscar Holden\n<br>\n<br>The CU Jazz musicians will do a performance featuring works by Oscar Holden\, whose music was an integral part of the One Book\, One Broomfield choice Hotel on the Corner of Bitter and Sweet by Jamie Ford.\n<br>
LOCATION:Broomfield Auditorium 3 Community Park Rd Broomfield CO
UID:e.641.1188
SEQUENCE:3
DTSTAMP:20260420T190921Z
URL:http://business.broomfieldchamber.com/events/details/cu-jazz-the-music-of-oscar-holden-10-06-2010-1188
END:VEVENT

END:VCALENDAR
