BEGIN:VCALENDAR
VERSION:2.0
PRODID:-//ChamberMaster//Event Calendar 2.0//EN
METHOD:PUBLISH
X-PUBLISHED-TTL:P3D
REFRESH-INTERVAL:P3D
CALSCALE:GREGORIAN
BEGIN:VEVENT
DTSTART:20111208T020000Z
DTEND:20111208T040000Z
X-MICROSOFT-CDO-ALLDAYEVENT:FALSE
SUMMARY:CU Men's Basketball vs. Fresno State
DESCRIPTION:
X-ALT-DESC;FMTTYPE=text/html:
LOCATION:Coors Events Center
UID:e.641.3136
SEQUENCE:3
DTSTAMP:20260419T223212Z
URL:http://business.broomfieldchamber.com/events/details/cu-men-s-basketball-vs-fresno-state-12-07-2011-3136
END:VEVENT

END:VCALENDAR
