BEGIN:VCALENDAR
VERSION:2.0
PRODID:-//ChamberMaster//Event Calendar 2.0//EN
METHOD:PUBLISH
X-PUBLISHED-TTL:P3D
REFRESH-INTERVAL:P3D
CALSCALE:GREGORIAN
BEGIN:VEVENT
DTSTART:20111223T020000Z
DTEND:20111223T040000Z
X-MICROSOFT-CDO-ALLDAYEVENT:FALSE
SUMMARY:CU Men's Basketball vs. Texas Southern
DESCRIPTION:
X-ALT-DESC;FMTTYPE=text/html:
LOCATION:Coors Events Center
UID:e.641.3152
SEQUENCE:3
DTSTAMP:20260419T234531Z
URL:http://business.broomfieldchamber.com/events/details/cu-men-s-basketball-vs-texas-southern-12-22-2011-3152
END:VEVENT

END:VCALENDAR
