BEGIN:VCALENDAR
VERSION:2.0
PRODID:-//ChamberMaster//Event Calendar 2.0//EN
METHOD:PUBLISH
X-PUBLISHED-TTL:P3D
REFRESH-INTERVAL:P3D
CALSCALE:GREGORIAN
BEGIN:VEVENT
DTSTART:20111231T230000Z
DTEND:20120101T010000Z
X-MICROSOFT-CDO-ALLDAYEVENT:FALSE
SUMMARY:CU Men's Basketball vs. Utah
DESCRIPTION:Help ring in the New Year with Head Coach Tad Boyle and the Buffs as they play in their first Pac-12 Conference game ever!
X-ALT-DESC;FMTTYPE=text/html:Help ring in the New Year with Head Coach Tad Boyle and the Buffs as they play in their first Pac-12 Conference game ever!
LOCATION:Coors Events Center
UID:e.641.3154
SEQUENCE:3
DTSTAMP:20260419T222920Z
URL:http://business.broomfieldchamber.com/events/details/cu-men-s-basketball-vs-utah-12-31-2011-3154
END:VEVENT

END:VCALENDAR
