BEGIN:VCALENDAR
VERSION:2.0
PRODID:-//ChamberMaster//Event Calendar 2.0//EN
METHOD:PUBLISH
X-PUBLISHED-TTL:P3D
REFRESH-INTERVAL:P3D
CALSCALE:GREGORIAN
BEGIN:VEVENT
DTSTART:20120106T020000Z
DTEND:20120106T040000Z
X-MICROSOFT-CDO-ALLDAYEVENT:FALSE
SUMMARY:CU Men's Basketball vs. Washington
DESCRIPTION:
X-ALT-DESC;FMTTYPE=text/html:
LOCATION:Coors Events Center
UID:e.641.3155
SEQUENCE:3
DTSTAMP:20260419T205607Z
URL:http://business.broomfieldchamber.com/events/details/cu-men-s-basketball-vs-washington-01-05-2012-3155
END:VEVENT

END:VCALENDAR
