BEGIN:VCALENDAR
VERSION:2.0
PRODID:-//ChamberMaster//Event Calendar 2.0//EN
METHOD:PUBLISH
X-PUBLISHED-TTL:P3D
REFRESH-INTERVAL:P3D
CALSCALE:GREGORIAN
BEGIN:VEVENT
DTSTART:20120113T020000Z
DTEND:20120113T040000Z
X-MICROSOFT-CDO-ALLDAYEVENT:FALSE
SUMMARY:CU Women's Basketball vs. California
DESCRIPTION:- first 500 fans in attendance will recieve a CU scarf!\n\n-special halftime performance by the Jumping Eagles jump rope team
X-ALT-DESC;FMTTYPE=text/html:- first 500 fans in attendance will recieve a CU scarf!<br />\n-special halftime performance by the Jumping Eagles jump rope team
LOCATION:Coors Events Center
UID:e.641.3179
SEQUENCE:3
DTSTAMP:20260419T210033Z
URL:http://business.broomfieldchamber.com/events/details/cu-women-s-basketball-vs-california-01-12-2012-3179
END:VEVENT

END:VCALENDAR
