BEGIN:VCALENDAR
VERSION:2.0
PRODID:-//ChamberMaster//Event Calendar 2.0//EN
METHOD:PUBLISH
X-PUBLISHED-TTL:P3D
REFRESH-INTERVAL:P3D
CALSCALE:GREGORIAN
BEGIN:VEVENT
DTSTART:20111209T020000Z
DTEND:20111209T040000Z
X-MICROSOFT-CDO-ALLDAYEVENT:FALSE
SUMMARY:CU Women's Basketball vs. Denver
DESCRIPTION:
X-ALT-DESC;FMTTYPE=text/html:
LOCATION:Coors Events Center
UID:e.641.3137
SEQUENCE:3
DTSTAMP:20260419T223217Z
URL:http://business.broomfieldchamber.com/events/details/cu-women-s-basketball-vs-denver-12-08-2011-3137
END:VEVENT

END:VCALENDAR
