BEGIN:VCALENDAR
VERSION:2.0
PRODID:-//ChamberMaster//Event Calendar 2.0//EN
METHOD:PUBLISH
X-PUBLISHED-TTL:P3D
REFRESH-INTERVAL:P3D
CALSCALE:GREGORIAN
BEGIN:VEVENT
DTSTART;VALUE=DATE:20111126
DTEND;VALUE=DATE:20111127
TRANSP:TRANSPARENT
X-MICROSOFT-CDO-ALLDAYEVENT:TRUE
SUMMARY:CU Women's Basketball vs. Montana State/Wisconsin
DESCRIPTION:Consolation/Championship of the 25th Annual Omni Hotels Classic
X-ALT-DESC;FMTTYPE=text/html:Consolation/Championship of the 25th Annual Omni Hotels Classic
LOCATION:Coors Events Center
UID:e.641.3117
SEQUENCE:3
DTSTAMP:20260420T010637Z
URL:http://business.broomfieldchamber.com/events/details/cu-women-s-basketball-vs-montana-state-wisconsin-11-26-2011-3117
END:VEVENT

END:VCALENDAR
