BEGIN:VCALENDAR
VERSION:2.0
PRODID:-//ChamberMaster//Event Calendar 2.0//EN
METHOD:PUBLISH
X-PUBLISHED-TTL:P3D
REFRESH-INTERVAL:P3D
CALSCALE:GREGORIAN
BEGIN:VEVENT
DTSTART:20120114T230000Z
DTEND:20120115T010000Z
X-MICROSOFT-CDO-ALLDAYEVENT:FALSE
SUMMARY:CU Women's Basketball vs. Stanford
DESCRIPTION:- the Buffs are looking to "Pack the House" and General Admission tickets are just $3\n\n- post-game autograph session with the team
X-ALT-DESC;FMTTYPE=text/html:- the Buffs are looking to &quot\;Pack the House&quot\; and General Admission tickets are just $3<br />\n- post-game autograph session with the team
LOCATION:Coors Events Center
UID:e.641.3180
SEQUENCE:3
DTSTAMP:20260419T210017Z
URL:http://business.broomfieldchamber.com/events/details/cu-women-s-basketball-vs-stanford-01-14-2012-3180
END:VEVENT

END:VCALENDAR
