BEGIN:VCALENDAR
VERSION:2.0
PRODID:-//ChamberMaster//Event Calendar 2.0//EN
METHOD:PUBLISH
X-PUBLISHED-TTL:P3D
REFRESH-INTERVAL:P3D
CALSCALE:GREGORIAN
BEGIN:VEVENT
DTSTART:20111126T023000Z
DTEND:20111126T043000Z
X-MICROSOFT-CDO-ALLDAYEVENT:FALSE
SUMMARY:CU Women's Basketball vs. Valparaiso
DESCRIPTION:25th Annual Omni Hotels Classic
X-ALT-DESC;FMTTYPE=text/html:25th Annual Omni Hotels Classic
LOCATION:Coors Events Center
UID:e.641.3116
SEQUENCE:3
DTSTAMP:20260420T005543Z
URL:http://business.broomfieldchamber.com/events/details/cu-women-s-basketball-vs-valparaiso-11-25-2011-3116
END:VEVENT

END:VCALENDAR
