BEGIN:VCALENDAR
VERSION:2.0
PRODID:-//ChamberMaster//Event Calendar 2.0//EN
METHOD:PUBLISH
X-PUBLISHED-TTL:P3D
REFRESH-INTERVAL:P3D
CALSCALE:GREGORIAN
BEGIN:VEVENT
DTSTART;VALUE=DATE:20110923
DTEND;VALUE=DATE:20110925
TRANSP:TRANSPARENT
X-MICROSOFT-CDO-ALLDAYEVENT:TRUE
SUMMARY:Cultural Affairs and BackStory Theater Company present MOBIUS-An Original Comedy
DESCRIPTION:Cultural Affairs and BackStory Theater Company present\n\nMOBIUS-An Original Comedy\n\nDate: Friday\, September 23 7pm\n\nSaturday September 24 2pm and 7pm\n\nTickets: $12 Adults\; $9 Seniors and Students\; $5 Children 12 and under\n\nMobius-An Original Comedy by Ron and Bret Carter\n\nDirected by Anna Marie Wilcox\n\nIt's the twists along the way that make life interesting.\n\nwww.brownpapertickets.com
X-ALT-DESC;FMTTYPE=text/html:Cultural Affairs and BackStory Theater Company present<br />\nMOBIUS-An Original Comedy<br />\nDate: Friday\, September 23 7pm<br />\nSaturday September 24 2pm and 7pm<br />\nTickets: $12 Adults\; $9 Seniors and Students\; $5 Children 12 and under<br />\nMobius-An Original Comedy by Ron and Bret Carter<br />\nDirected by Anna Marie Wilcox<br />\nIt&rsquo\;s the twists along the way that make life interesting.<br />\nwww.brownpapertickets.com<br />\n
LOCATION:Broomfield Auditorium
UID:e.641.2880
SEQUENCE:3
DTSTAMP:20260420T022926Z
URL:http://business.broomfieldchamber.com/events/details/cultural-affairs-and-backstory-theater-company-present-mobius-an-original-comedy-09-23-2011-2880
END:VEVENT

END:VCALENDAR
