BEGIN:VCALENDAR
VERSION:2.0
PRODID:-//ChamberMaster//Event Calendar 2.0//EN
METHOD:PUBLISH
X-PUBLISHED-TTL:P3D
REFRESH-INTERVAL:P3D
CALSCALE:GREGORIAN
BEGIN:VEVENT
DTSTART:20111006T010000Z
DTEND:20111006T030000Z
X-MICROSOFT-CDO-ALLDAYEVENT:FALSE
SUMMARY:Cultural Affairs presents CU Jazz
DESCRIPTION:"Bird Lives" \; A Tribute to Charlie Parker\n\nThe CU Jazz Faculty performs the Music of Charlie Parker\, the premiere saxophonist in jazz history\, and one of the fathers of the the modern jazz movement. Featuring Brad Goode\, trumpet\; John Gunther\, saxophone\; Jeff Jenkins\, piano\; Bijoux Barbosa\, bass\; Paul Romaine\, drums.
X-ALT-DESC;FMTTYPE=text/html:&quot\;Bird Lives&quot\; \; A Tribute to Charlie Parker<br />\nThe CU Jazz Faculty performs the Music of Charlie Parker\, the premiere saxophonist in jazz history\, and one of the fathers of the the modern jazz movement. Featuring Brad Goode\, trumpet\; John Gunther\, saxophone\; Jeff Jenkins\, piano\; Bijoux Barbosa\, bass\; Paul Romaine\, drums.<br />\n
LOCATION:Broomfield Auditorium 3 Community Park Road Broomfield Co 80020
UID:e.641.2900
SEQUENCE:3
DTSTAMP:20260420T005907Z
URL:http://business.broomfieldchamber.com/events/details/cultural-affairs-presents-cu-jazz-10-05-2011-2900
END:VEVENT

END:VCALENDAR
