BEGIN:VCALENDAR
VERSION:2.0
PRODID:-//ChamberMaster//Event Calendar 2.0//EN
METHOD:PUBLISH
X-PUBLISHED-TTL:P3D
REFRESH-INTERVAL:P3D
CALSCALE:GREGORIAN
BEGIN:VEVENT
DTSTART:20111103T010000Z
DTEND:20111103T030000Z
X-MICROSOFT-CDO-ALLDAYEVENT:FALSE
SUMMARY:Cultural Affairs presents CU Jazz
DESCRIPTION:"Piano AFRICA!" with the Jeff Jenkins Piano Trio\n\nPianist and CU professor Jeff Jenkins and his trio create fascinating arrangements as they explore the connection between the music of Africa and the jazz tradition. With Jeff Jenkins\, piano\; Bijoux Barbosa\, bass\; Paul Romaine\, drums.
X-ALT-DESC;FMTTYPE=text/html:&quot\;Piano AFRICA!&quot\; with the Jeff Jenkins Piano Trio<br />\nPianist and CU professor Jeff Jenkins and his trio create fascinating arrangements as they explore the connection between the music of Africa and the jazz tradition. With Jeff Jenkins\, piano\; Bijoux Barbosa\, bass\; Paul Romaine\, drums.<br />\n
LOCATION:Broomfield Auditorium 3 Community Park Road
UID:e.641.2903
SEQUENCE:3
DTSTAMP:20260419T235314Z
URL:http://business.broomfieldchamber.com/events/details/cultural-affairs-presents-cu-jazz-11-02-2011-2903
END:VEVENT

END:VCALENDAR
