BEGIN:VCALENDAR
VERSION:2.0
PRODID:-//ChamberMaster//Event Calendar 2.0//EN
METHOD:PUBLISH
X-PUBLISHED-TTL:P3D
REFRESH-INTERVAL:P3D
CALSCALE:GREGORIAN
BEGIN:VEVENT
DTSTART:20120316T010000Z
DTEND:20120316T030000Z
X-MICROSOFT-CDO-ALLDAYEVENT:FALSE
SUMMARY:Cultural Affairs presents PHAMALY
DESCRIPTION:PHAMALY (Physically Handicapped Actors and Musical Artist League) returns to the Broomfield Auditorium Thursday\, March 15\, 2012 at 7pm. This free performance will be a family friendly version of Cyrano.\n\n\n\nCyrano de Bergerac is a master of swordplay and wordplay\, but a "magnificent Mount Everest of a nose" blocks his path to true love. From Parisian balconies to bloody battlefields\, tongue-tied Christian borrows Cyrano's words to woo beautiful Roxanne but is she falling for Christian's looks or Cyrano's soul? A cast of three actors triangulates this classic into a lightning-paced romance of duels\, panache\, sacrifice and an enormous schnoz.\n\n\n\nDon't miss the chance to hear some of Colorado's best award-winning voices in this special appearance at the Broomfield Auditorium.
X-ALT-DESC;FMTTYPE=text/html:PHAMALY (Physically Handicapped Actors and Musical Artist League) returns to the Broomfield Auditorium Thursday\, March 15\, 2012 at 7pm. This free performance will be a family friendly version of Cyrano.<br />\n<br />\nCyrano de Bergerac is a master of swordplay and wordplay\, but a &ldquo\;magnificent Mount Everest of a nose&rdquo\; blocks his path to true love. From Parisian balconies to bloody battlefields\, tongue-tied Christian borrows Cyrano&rsquo\;s words to woo beautiful Roxanne&mdash\;but is she falling for Christian&rsquo\;s looks or Cyrano&rsquo\;s soul? A cast of three actors triangulates this classic into a lightning-paced romance of duels\, panache\, sacrifice&mdash\;and an enormous schnoz.<br />\n<br />\nDon&rsquo\;t miss the chance to hear some of Colorado&rsquo\;s best award-winning voices in this special appearance at the Broomfield Auditorium.<br />\n
LOCATION:Broomfield Auditorium 3 Community Park Road Broomfield CO 80020
UID:e.641.3891
SEQUENCE:3
DTSTAMP:20260419T175529Z
URL:http://business.broomfieldchamber.com/events/details/cultural-affairs-presents-phamaly-03-15-2012-3891
END:VEVENT

END:VCALENDAR
