BEGIN:VCALENDAR
VERSION:2.0
PRODID:-//ChamberMaster//Event Calendar 2.0//EN
METHOD:PUBLISH
X-PUBLISHED-TTL:P3D
REFRESH-INTERVAL:P3D
CALSCALE:GREGORIAN
BEGIN:VEVENT
DTSTART:20120309T020000Z
DTEND:20120309T040000Z
X-MICROSOFT-CDO-ALLDAYEVENT:FALSE
SUMMARY:Culture Feast-Ballet Nouveau Colorado
DESCRIPTION:Ballet Nouveau\n\nExcerpts from Rock Ballet\n\nBNC proudly presents excerpts of Garrett Ammon's Rock Ballets featuring the music of INXS\, Queen and David Bowie. The performance will also include a discussion with BNC's Artistic Director and choreographer\, Garrett Ammon. These beautifully athletic works comprise an evening of meaty ideas that\, well\, simply rock.
X-ALT-DESC;FMTTYPE=text/html:Ballet Nouveau<br />\nExcerpts from Rock Ballet<br />\nBNC proudly presents excerpts of Garrett Ammon&#39\;s Rock Ballets featuring the music of INXS\, Queen and David Bowie. The performance will also include a discussion with BNC&#39\;s Artistic Director and choreographer\, Garrett Ammon. These beautifully athletic works comprise an evening of meaty ideas that\, well\, simply rock.<br />\n
LOCATION:Broomfield Auditorium
UID:e.641.3217
SEQUENCE:3
DTSTAMP:20260419T180934Z
URL:http://business.broomfieldchamber.com/events/details/culture-feast-ballet-nouveau-colorado-03-08-2012-3217
END:VEVENT

END:VCALENDAR
