BEGIN:VCALENDAR
VERSION:2.0
PRODID:-//ChamberMaster//Event Calendar 2.0//EN
METHOD:PUBLISH
X-PUBLISHED-TTL:P3D
REFRESH-INTERVAL:P3D
CALSCALE:GREGORIAN
BEGIN:VEVENT
DTSTART;VALUE=DATE:20120117
DTEND;VALUE=DATE:20120118
TRANSP:TRANSPARENT
X-MICROSOFT-CDO-ALLDAYEVENT:TRUE
SUMMARY:Culture Feast-Central City Opera
DESCRIPTION:Cultural Affairs presents Central City Opera- Love Notes\n\nLove Notes is a musical reflection on the ups\, the downs\, the all-around magic of love\, featuring a romantic duo (and dynamic pianist) from the Central City Opera Ensemble. Relive the rollercoaster of love through this eclectic program of songs and duets from opera and musical theatre\, including selections from La Boh me and Oklahoma!\, both in Central City Opera's 2012 summer Festival.
X-ALT-DESC;FMTTYPE=text/html:Cultural Affairs presents Central City Opera- Love Notes<br />\nLove Notes is a musical reflection on the ups\, the downs\, the all-around magic of love\, featuring a romantic duo (and dynamic pianist) from the Central City Opera Ensemble. Relive the rollercoaster of love through this eclectic program of songs and duets from opera and musical theatre\, including selections from La Boh&egrave\;me and Oklahoma!\, both in Central City Opera&rsquo\;s 2012 summer Festival.<br />\n
LOCATION:Broomfield Auditorium 3 Community Park Rd Broomfield CO 80020
UID:e.641.3216
SEQUENCE:3
DTSTAMP:20260419T210004Z
URL:http://business.broomfieldchamber.com/events/details/culture-feast-central-city-opera-01-17-2012-3216
END:VEVENT

END:VCALENDAR
