BEGIN:VCALENDAR
VERSION:2.0
PRODID:-//ChamberMaster//Event Calendar 2.0//EN
METHOD:PUBLISH
X-PUBLISHED-TTL:P3D
REFRESH-INTERVAL:P3D
CALSCALE:GREGORIAN
BEGIN:VEVENT
DTSTART:20120405T010000Z
DTEND:20120405T030000Z
X-MICROSOFT-CDO-ALLDAYEVENT:FALSE
SUMMARY:Culture Feast -Denver Pops Orchestra
DESCRIPTION:Dancing with the Pops\n\nThe Denver Pops Orchestra\, also known as the Mostly Strauss Orchestra\, performs a great mix of light classical music. They will be presenting an evening of ballroom favorites\, including Blue Danube Waltz\, Ballsirene Waltz\, Blue Tango\, and Lord of the Dance. Jazz singer Faye Nepon will perform The Girl From Ipanema by Carlos Jobim\, The Shadow of Your Smile by Johnny Mandel\, It Don 't Mean a Thing by Duke Ellington\, Day's of Wine and Roses by Henry Mancini.
X-ALT-DESC;FMTTYPE=text/html:Dancing with the Pops<br />\nThe Denver Pops Orchestra\, also known as the Mostly Strauss Orchestra\, performs a great mix of light classical music. They will be presenting an evening of ballroom favorites\, including Blue Danube Waltz\, Ballsirene Waltz\, Blue Tango\, and Lord of the Dance. Jazz singer Faye Nepon will perform The Girl From Ipanema by Carlos Jobim\, The Shadow of Your Smile by Johnny Mandel\, It Don &#39\;t Mean a Thing by Duke Ellington\, Day&#39\;s of Wine and Roses by Henry Mancini.<br />\n<br />\n
LOCATION:Broomfield Auditorium 3 Community Park Rd Broomfield Co 80020
UID:e.641.3892
SEQUENCE:3
DTSTAMP:20260419T162235Z
URL:http://business.broomfieldchamber.com/events/details/culture-feast-denver-pops-orchestra-04-04-2012-3892
END:VEVENT

END:VCALENDAR
