BEGIN:VCALENDAR
VERSION:2.0
PRODID:-//ChamberMaster//Event Calendar 2.0//EN
METHOD:PUBLISH
X-PUBLISHED-TTL:P3D
REFRESH-INTERVAL:P3D
CALSCALE:GREGORIAN
BEGIN:VEVENT
DTSTART:20110501T200000Z
DTEND:20110501T210000Z
X-MICROSOFT-CDO-ALLDAYEVENT:FALSE
SUMMARY:Culture Feast-Fiesta Colorado
DESCRIPTION:Cultural Affairs presents Fiesta Colorado\, the final program in the Culture-Feast free concert series. Fiesta Colorado's Mission is to preserve the Cultural traditions of the Mexican & Spanish Performing Arts.\n\n\n\nThe presentations captivate & educate its audience through the expertise of its talented dancers and musicians. The beautiful costumes feature the colors and traditions of the Hispanic culture that make Colorado a unique place to live and visit.
X-ALT-DESC;FMTTYPE=text/html:<span style="font-size: 14px\;">Cultural Affairs presents <strong>Fiesta Colorado</strong>\, the final program in the Culture-Feast free concert series. Fiesta Colorado&#39\;s Mission is to preserve the Cultural traditions of the Mexican &amp\; Spanish Performing Arts.<br />\n<br />\nThe presentations captivate &amp\; educate its audience through the expertise of its talented dancers and musicians. The beautiful costumes feature the colors and traditions of the Hispanic culture that make Colorado a unique place to live and visit. </span>
LOCATION:Broomfield Auditorium
UID:e.641.1369
SEQUENCE:3
DTSTAMP:20260420T080837Z
URL:http://business.broomfieldchamber.com/events/details/culture-feast-fiesta-colorado-05-01-2011-1369
END:VEVENT

END:VCALENDAR
