BEGIN:VCALENDAR
VERSION:2.0
PRODID:-//ChamberMaster//Event Calendar 2.0//EN
METHOD:PUBLISH
X-PUBLISHED-TTL:P3D
REFRESH-INTERVAL:P3D
CALSCALE:GREGORIAN
BEGIN:VEVENT
DTSTART:20120503T010000Z
DTEND:20120503T030000Z
X-MICROSOFT-CDO-ALLDAYEVENT:FALSE
SUMMARY:Culture Feast-Fiesta Colorado
DESCRIPTION:Fiesta Colorado\n\nCelebrate Cinco de Mayo with Fiesta Colorado! Fiesta Colorado Inc is a non-profit organization and its mission is to preserve the Hispanic Arts of the Southwest. There is an overwhelming response to Fiesta Colorado's performances. They provide a presentation of excitement\, expertise and beauty that truly is the ambiance of Colorado and its Hispanic cultural representations.
X-ALT-DESC;FMTTYPE=text/html:Fiesta Colorado<br />\nCelebrate Cinco de Mayo with Fiesta Colorado! Fiesta Colorado Inc is a non-profit organization and its mission is to preserve the Hispanic Arts of the Southwest. There is an overwhelming response to Fiesta Colorado&rsquo\;s performances. They provide a presentation of excitement\, expertise and beauty that truly is the ambiance of Colorado and its Hispanic cultural representations.<br />\n
LOCATION:Broomfield Auditorium 3 Community Park Road Broomfield CO 80020
UID:e.641.3893
SEQUENCE:3
DTSTAMP:20260419T162749Z
URL:http://business.broomfieldchamber.com/events/details/culture-feast-fiesta-colorado-05-02-2012-3893
END:VEVENT

END:VCALENDAR
