BEGIN:VCALENDAR
VERSION:2.0
PRODID:-//ChamberMaster//Event Calendar 2.0//EN
METHOD:PUBLISH
X-PUBLISHED-TTL:P3D
REFRESH-INTERVAL:P3D
CALSCALE:GREGORIAN
BEGIN:VEVENT
DTSTART:20110305T173000Z
DTEND:20110305T190000Z
X-MICROSOFT-CDO-ALLDAYEVENT:FALSE
SUMMARY:Dads Do Make a Difference - Fun and Free Class
DESCRIPTION:Dads play a vital role in the emotional health of children and of mothers.  Learn strategies to engage fathers to support children in the positive development of emotional health.  Presenter\; Dan Welch\, Fatherhood Program Administrator\, CDHS/Colorado Works.  FREE.  Register at:  http://www.healthylearningpaths.org/?page=classregistration
X-ALT-DESC;FMTTYPE=text/html:Dads play a vital role in the emotional health of children and of mothers.  Learn strategies to engage fathers to support children in the positive development of emotional health.  Presenter\; Dan Welch\, Fatherhood Program Administrator\, CDHS/Colorado Works.  FREE.  Register at:  http://www.healthylearningpaths.org/?page=classregistration
LOCATION:Mamie Doud Eisenhower Library Eisenhower Room 3 Community Park Rd\, Broomfield
UID:e.641.1336
SEQUENCE:3
DTSTAMP:20260420T110419Z
URL:http://business.broomfieldchamber.com/events/details/dads-do-make-a-difference-fun-and-free-class-03-05-2011-1336
END:VEVENT

END:VCALENDAR
