BEGIN:VCALENDAR
VERSION:2.0
PRODID:-//ChamberMaster//Event Calendar 2.0//EN
METHOD:PUBLISH
X-PUBLISHED-TTL:P3D
REFRESH-INTERVAL:P3D
CALSCALE:GREGORIAN
BEGIN:VEVENT
DTSTART;VALUE=DATE:20120109
DTEND;VALUE=DATE:20120115
TRANSP:TRANSPARENT
X-MICROSOFT-CDO-ALLDAYEVENT:TRUE
SUMMARY:Dance & Fitness FREE Week at Ballet Nouveau Colorado
DESCRIPTION:We invite you to come try out our various dance & fitness classes for FREE all week long. There is something for everybody!  We have specialized classes to suit a variety of needs\, interests\, abilities & ages from toddler to adult from beginner to advanced. We are sure you'll be hooked. Attendees will receive $10 off registration.  \n\n	 What To Wear: Come wearing comfortable\, easy to move in exercise or dance clothing. Ballet slippers are most appropriate for the majority of classes\, but if you do not have these\, socks will work.\n\n	To RSVP and learn more go to www.bncdance.com/free-weeks and for additional assistance please call 303.466.5685 and speak with the front desk staff or email info@bncdance.com
X-ALT-DESC;FMTTYPE=text/html:<!--StartFragment-->\n<p class="MsoNormal" style="mso-pagination:none\;mso-layout-grid-align:none\;\ntext-autospace:none">\n	<span style="font-size:13.0pt\;font-family:Arial\;\nmso-bidi-font-family:Arial\;color:#222222">We invite you to come try out our various dance &amp\; fitness classes for FREE all week long. There is something for everybody! &nbsp\;We have specialized classes to suit a variety of needs\, interests\, abilities &amp\; ages from toddler to adult from beginner to advanced. We are sure you&#39\;ll be hooked. Attendees will receive $10 off registration. &nbsp\;<o:p></o:p></span></p>\n<p class="MsoNormal" style="mso-pagination:none\;mso-layout-grid-align:none\;\ntext-autospace:none">\n	<span style="font-size:13.0pt\;font-family:Arial\;\nmso-bidi-font-family:Arial\;color:#222222"><o:p>&nbsp\;</o:p></span><span class="Apple-style-span" style="font-family: Arial\; font-size: 17px\; ">What To Wear: Come wearing comfortable\, easy to move in exercise or dance clothing. Ballet slippers are most appropriate for the majority of classes\, but if you do not have these\, socks will work.</span></p>\n<p class="MsoNormal">\n	<span class="Apple-style-span" style="font-family: Arial\; font-size: 17px\; ">To RSVP and learn more go to <a href="http://www.bncdance.com/free-weeks"><span style="color:#2357C9">www.bncdance.com/free-weeks</span></a> and for additional assistance please call <a href="file://localhost/tel/303.466.5685"><span style="color:#2357C9">303.466.5685</span></a> and speak with the front desk staff or email <a href="mailto:info@bncdance.com"><span style="color:#2357C9">info@bncdance.com</span></a></span></p>\n<!--EndFragment-->
LOCATION:The School of BNC 3001 Industrial Ln #12 Broomfield\, CO 80020
UID:e.641.3163
SEQUENCE:3
DTSTAMP:20260419T210211Z
URL:http://business.broomfieldchamber.com/events/details/dance-fitness-free-week-at-ballet-nouveau-colorado-01-09-2012-3163
END:VEVENT

END:VCALENDAR
