BEGIN:VCALENDAR
VERSION:2.0
PRODID:-//ChamberMaster//Event Calendar 2.0//EN
METHOD:PUBLISH
X-PUBLISHED-TTL:P3D
REFRESH-INTERVAL:P3D
CALSCALE:GREGORIAN
BEGIN:VEVENT
DTSTART:20120127T141500Z
DTEND:20120127T154500Z
X-MICROSOFT-CDO-ALLDAYEVENT:FALSE
SUMMARY:Dance From the Heart
DESCRIPTION:Why? Because dance can light the way toward what a child needs most: a future.\n\nA fundraising effort to support BNC's Community Programs. Enjoy a complementary continental breakfast followed by a short presentation showcasing the impact these programs are making. This event is free to attend\, but a request to donate will be made. If you cannot attend you may still donate to this cause at bncdance.com/donate. To learn more about these community programs visit bncdance.com/community. Please make sure to RSVP by Jan. 21th at bncdance.com/dfth. If you have any other questions contact us by phone at 303.466.5685 or email at info@bncdance.com\n\n\n\nHighlights From Our Community Programs Include:\n\n	\n		Partnerships and performances in 30 high-need schools\n	\n		Tuition Assistance Program (giving $70\,000 in scholarships annually)\n	\n		Free Tickets (Providing 1\,200 free tickets to seniors\, low-income and at-risk community residence)
X-ALT-DESC;FMTTYPE=text/html:<span style="font-size: 14px"><strong>Why? Because dance can light the way toward what a child needs most: a future.</strong></span><br />\nA fundraising effort to support BNC&rsquo\;s Community Programs. Enjoy a complementary continental breakfast followed by a short presentation showcasing the impact these programs are making. This event is free to attend\, but a request to donate will be made. If you cannot attend you may still donate to this cause at bncdance.com/donate. To learn more about these community programs visit bncdance.com/community. Please make sure to RSVP by Jan. 21th at bncdance.com/dfth. If you have any other questions contact us by phone at 303.466.5685 or email at info@bncdance.com<br />\n<br />\nHighlights From Our Community Programs Include:\n<ul>\n	<li>\n		Partnerships and performances in 30 high-need schools</li>\n	<li>\n		Tuition Assistance Program (giving $70\,000 in scholarships annually)</li>\n	<li>\n		Free Tickets (Providing 1\,200 free tickets to seniors\, low-income and at-risk community residence)</li>\n</ul>\n
LOCATION:Performing Arts Complex at PCS\, 1001 W. 84th Ave.\, Denver\, CO 80260
UID:e.641.3164
SEQUENCE:3
DTSTAMP:20260419T205639Z
URL:http://business.broomfieldchamber.com/events/details/dance-from-the-heart-01-27-2012-3164
END:VEVENT

END:VCALENDAR
