BEGIN:VCALENDAR
VERSION:2.0
PRODID:-//ChamberMaster//Event Calendar 2.0//EN
METHOD:PUBLISH
X-PUBLISHED-TTL:P3D
REFRESH-INTERVAL:P3D
CALSCALE:GREGORIAN
BEGIN:VEVENT
DTSTART:20100923T233000Z
DTEND:20100924T040000Z
X-MICROSOFT-CDO-ALLDAYEVENT:FALSE
SUMMARY:Dancing With the Broomfield Stars
DESCRIPTION:Benefit for Broomfield Community Foundation grant programs.  Eight local celebrity dancers paired with area dance professionals.  Delicious food from area restaurants.  Special appearance by vocal group Face.  Emcees-Kim Christiansen\, 9News Anchor & Dave Delozier\, 9News Reporter.  Winner will be determined by people voting with money.
X-ALT-DESC;FMTTYPE=text/html:Benefit for Broomfield Community Foundation grant programs.  Eight local celebrity dancers paired with area dance professionals.  Delicious food from area restaurants.  Special appearance by vocal group Face.  Emcees-Kim Christiansen\, 9News Anchor &amp\; Dave Delozier\, 9News Reporter.  Winner will be determined by people voting with money.
LOCATION:1st Bank Center
UID:e.641.1103
SEQUENCE:3
DTSTAMP:20260420T215700Z
URL:http://business.broomfieldchamber.com/events/details/dancing-with-the-broomfield-stars-09-23-2010-1103
END:VEVENT

END:VCALENDAR
