BEGIN:VCALENDAR
VERSION:2.0
PRODID:-//ChamberMaster//Event Calendar 2.0//EN
METHOD:PUBLISH
X-PUBLISHED-TTL:P3D
REFRESH-INTERVAL:P3D
CALSCALE:GREGORIAN
BEGIN:VEVENT
DTSTART:20110414T010000Z
DTEND:20110414T030000Z
X-MICROSOFT-CDO-ALLDAYEVENT:FALSE
SUMMARY:David Mason\, Colorado Poet Laureate
DESCRIPTION:In celebration of Poetry Month\, Cultural Affairs and the Mamie Doud Eisenhower Public Library welcome Colorado Poet Laureate David Mason to the Broomfield Auditorium Wednesday April 13 at 7pm.\n\n\n\nDavid Mason and local poet David Rothman will be reading some of their own work and discussing poetry.
X-ALT-DESC;FMTTYPE=text/html:<span style="font-size: 14px\;">In celebration of Poetry Month\, Cultural Affairs and the Mamie Doud Eisenhower Public Library welcome <strong>Colorado Poet Laureate David Mason</strong> to the Broomfield Auditorium Wednesday April 13 at 7pm.<br />\n<br />\nDavid Mason and local poet David Rothman will be reading some of their own work and discussing poetry. </span>
LOCATION:Broomfield Auditorium
UID:e.641.1368
SEQUENCE:3
DTSTAMP:20260420T093318Z
URL:http://business.broomfieldchamber.com/events/details/david-mason-colorado-poet-laureate-04-13-2011-1368
END:VEVENT

END:VCALENDAR
