BEGIN:VCALENDAR
VERSION:2.0
PRODID:-//ChamberMaster//Event Calendar 2.0//EN
METHOD:PUBLISH
X-PUBLISHED-TTL:P3D
REFRESH-INTERVAL:P3D
CALSCALE:GREGORIAN
BEGIN:VEVENT
DTSTART:20120331T010000Z
DTEND:20120331T055000Z
X-MICROSOFT-CDO-ALLDAYEVENT:FALSE
SUMMARY:Deja Blu @ The Event Center at Church Ranch
DESCRIPTION:MARCH 30TH THE DAY      \n\n	DEJA BLUE BAND CLASSIC ROCK AND ROLL\nWILL BE FUN\n\n\n\nSTARTS AT 7:00 p.m.\n\nENDS AT         \n\n\n\nDRINK SPECIALS AND STUFF TO EAT\n\n\n\nTHE EVENT CENTER AT CHURCH RANCH\n\n10200 OLD WADSWORTH BLVD     .
X-ALT-DESC;FMTTYPE=text/html:<h3 style="color: blue">\n	MARCH 30TH THE DAY&hellip\;&hellip\;&hellip\;&hellip\;&hellip\;&hellip\;</h3>\n<h3 style="color: red">\n	<span style="font-size: 20px">DEJA BLUE BAND CLASSIC ROCK AND ROLL</span></h3>\nWILL BE FUN<br />\n<br />\nSTARTS AT <span style="background-color: yellow">7:00 p.m</span>.<br />\nENDS AT &hellip\;&hellip\;&hellip\;&hellip\;&hellip\;&hellip\;&hellip\;&hellip\;<br />\n<br />\n<span style="background-color: lime">DRINK SPECIALS AND STUFF TO EAT</span><br />\n<br />\nTHE EVENT CENTER AT CHURCH RANCH<br />\n10200 OLD WADSWORTH BLVD&hellip\;&hellip\;&hellip\;&hellip\;&hellip\;.<br />\n
LOCATION:The Event Center at Church Ranch
UID:e.641.3632
SEQUENCE:3
DTSTAMP:20260419T175530Z
URL:http://business.broomfieldchamber.com/events/details/deja-blu-the-event-center-at-church-ranch-03-30-2012-3632
END:VEVENT

END:VCALENDAR
